BEGIN:VCALENDAR
VERSION:2.0
PRODID:-//Minnehaha: Senior Living in Minneapolis - ECPv6.13.2.1//NONSGML v1.0//EN
CALSCALE:GREGORIAN
METHOD:PUBLISH
X-ORIGINAL-URL:https://minnehahaseniorliving.com
X-WR-CALDESC:Events for Minnehaha: Senior Living in Minneapolis
REFRESH-INTERVAL;VALUE=DURATION:PT1H
X-Robots-Tag:noindex
X-PUBLISHED-TTL:PT1H
BEGIN:VTIMEZONE
TZID:America/Chicago
BEGIN:DAYLIGHT
TZOFFSETFROM:-0600
TZOFFSETTO:-0500
TZNAME:CDT
DTSTART:20260308T080000
END:DAYLIGHT
BEGIN:STANDARD
TZOFFSETFROM:-0500
TZOFFSETTO:-0600
TZNAME:CST
DTSTART:20261101T070000
END:STANDARD
END:VTIMEZONE
BEGIN:VEVENT
DTSTART;TZID=America/Chicago:20260522T100000
DTEND;TZID=America/Chicago:20260522T110000
DTSTAMP:20260423T181039
CREATED:20260423T084812Z
LAST-MODIFIED:20260423T100305Z
UID:10004214-1779444000-1779447600@minnehahaseniorliving.com
SUMMARY:Worship service With Liza
DESCRIPTION:
URL:https://minnehahaseniorliving.com/event-calendar/worship-service-with-liza-18/
LOCATION:Harmony Place
CATEGORIES:Harmony Place,Rose Court
END:VEVENT
BEGIN:VEVENT
DTSTART;TZID=America/Chicago:20260522T110000
DTEND;TZID=America/Chicago:20260522T120000
DTSTAMP:20260423T181039
CREATED:20260423T103310Z
LAST-MODIFIED:20260423T103310Z
UID:10004220-1779447600-1779451200@minnehahaseniorliving.com
SUMMARY:Soothing Chair Yoga With Lana!
DESCRIPTION:
URL:https://minnehahaseniorliving.com/event-calendar/soothing-chair-yoga-with-lana-3/
LOCATION:Activity Room
CATEGORIES:ALF
END:VEVENT
BEGIN:VEVENT
DTSTART;TZID=America/Chicago:20260522T120000
DTEND;TZID=America/Chicago:20260522T130000
DTSTAMP:20260423T181039
CREATED:20260423T084813Z
LAST-MODIFIED:20260423T100305Z
UID:10004215-1779451200-1779454800@minnehahaseniorliving.com
SUMMARY:Daily Chronicle
DESCRIPTION:
URL:https://minnehahaseniorliving.com/event-calendar/daily-chronicle-75/
LOCATION:Harmony Place
CATEGORIES:Harmony Place,Rose Court
END:VEVENT
BEGIN:VEVENT
DTSTART;TZID=America/Chicago:20260522T130000
DTEND;TZID=America/Chicago:20260522T140000
DTSTAMP:20260423T181039
CREATED:20260423T103310Z
LAST-MODIFIED:20260423T103310Z
UID:10004221-1779454800-1779458400@minnehahaseniorliving.com
SUMMARY:The really BIG show
DESCRIPTION:
URL:https://minnehahaseniorliving.com/event-calendar/the-really-big-show-29/
LOCATION:Lodge
CATEGORIES:ALF
END:VEVENT
BEGIN:VEVENT
DTSTART;TZID=America/Chicago:20260522T133000
DTEND;TZID=America/Chicago:20260522T140000
DTSTAMP:20260423T181039
CREATED:20260423T103310Z
LAST-MODIFIED:20260423T103310Z
UID:10004222-1779456600-1779458400@minnehahaseniorliving.com
SUMMARY:Worship Service with Kurt
DESCRIPTION:
URL:https://minnehahaseniorliving.com/event-calendar/worship-service-with-kurt-52/
LOCATION:Activity Room
CATEGORIES:ALF
END:VEVENT
BEGIN:VEVENT
DTSTART;TZID=America/Chicago:20260522T133000
DTEND;TZID=America/Chicago:20260522T143000
DTSTAMP:20260423T181039
CREATED:20260423T084813Z
LAST-MODIFIED:20260423T100305Z
UID:10004216-1779456600-1779460200@minnehahaseniorliving.com
SUMMARY:Ice Cream Social
DESCRIPTION:
URL:https://minnehahaseniorliving.com/event-calendar/ice-cream-social-15/
LOCATION:Harmony Place
CATEGORIES:Harmony Place,Rose Court
END:VEVENT
BEGIN:VEVENT
DTSTART;TZID=America/Chicago:20260522T150000
DTEND;TZID=America/Chicago:20260522T160000
DTSTAMP:20260423T181039
CREATED:20260423T084813Z
LAST-MODIFIED:20260423T100305Z
UID:10004217-1779462000-1779465600@minnehahaseniorliving.com
SUMMARY:Flower Painting
DESCRIPTION:
URL:https://minnehahaseniorliving.com/event-calendar/flower-painting-3/
LOCATION:Harmony Place
CATEGORIES:Harmony Place,Rose Court
END:VEVENT
BEGIN:VEVENT
DTSTART;TZID=America/Chicago:20260522T150000
DTEND;TZID=America/Chicago:20260522T160000
DTSTAMP:20260423T181039
CREATED:20260423T103310Z
LAST-MODIFIED:20260423T103310Z
UID:10004223-1779462000-1779465600@minnehahaseniorliving.com
SUMMARY:Free Bingo with Prizes
DESCRIPTION:
URL:https://minnehahaseniorliving.com/event-calendar/free-bingo-with-prizes-52/
LOCATION:Dining Room
CATEGORIES:ALF
END:VEVENT
BEGIN:VEVENT
DTSTART;TZID=America/Chicago:20260522T160000
DTEND;TZID=America/Chicago:20260522T170000
DTSTAMP:20260423T181039
CREATED:20260423T084813Z
LAST-MODIFIED:20260423T100306Z
UID:10004218-1779465600-1779469200@minnehahaseniorliving.com
SUMMARY:Trash Club
DESCRIPTION:
URL:https://minnehahaseniorliving.com/event-calendar/trash-club-8/
LOCATION:Harmony Place
CATEGORIES:Harmony Place,Rose Court
END:VEVENT
END:VCALENDAR