BEGIN:VCALENDAR
VERSION:2.0
PRODID:-//Minnehaha: Senior Living in Minneapolis - ECPv6.13.2.1//NONSGML v1.0//EN
CALSCALE:GREGORIAN
METHOD:PUBLISH
X-WR-CALNAME:Minnehaha: Senior Living in Minneapolis
X-ORIGINAL-URL:https://minnehahaseniorliving.com
X-WR-CALDESC:Events for Minnehaha: Senior Living in Minneapolis
REFRESH-INTERVAL;VALUE=DURATION:PT1H
X-Robots-Tag:noindex
X-PUBLISHED-TTL:PT1H
BEGIN:VTIMEZONE
TZID:America/Chicago
BEGIN:DAYLIGHT
TZOFFSETFROM:-0600
TZOFFSETTO:-0500
TZNAME:CDT
DTSTART:20260308T080000
END:DAYLIGHT
BEGIN:STANDARD
TZOFFSETFROM:-0500
TZOFFSETTO:-0600
TZNAME:CST
DTSTART:20261101T070000
END:STANDARD
END:VTIMEZONE
BEGIN:VEVENT
DTSTART;TZID=America/Chicago:20260515T160000
DTEND;TZID=America/Chicago:20260515T170000
DTSTAMP:20260420T060517
CREATED:20260416T081822Z
LAST-MODIFIED:20260420T100320Z
UID:10004167-1778860800-1778864400@minnehahaseniorliving.com
SUMMARY:Trash Club
DESCRIPTION:
URL:https://minnehahaseniorliving.com/event-calendar/walking-club-392/
LOCATION:Harmony Place
CATEGORIES:Harmony Place,Rose Court
END:VEVENT
BEGIN:VEVENT
DTSTART;TZID=America/Chicago:20260516T093000
DTEND;TZID=America/Chicago:20260516T103000
DTSTAMP:20260420T060517
CREATED:20260417T081818Z
LAST-MODIFIED:20260420T100320Z
UID:10004173-1778923800-1778927400@minnehahaseniorliving.com
SUMMARY:Daily Affirmations
DESCRIPTION:
URL:https://minnehahaseniorliving.com/event-calendar/daily-affirmations-15/
LOCATION:Harmony Place
CATEGORIES:Harmony Place,Rose Court
END:VEVENT
BEGIN:VEVENT
DTSTART;TZID=America/Chicago:20260516T103000
DTEND;TZID=America/Chicago:20260516T113000
DTSTAMP:20260420T060517
CREATED:20260417T093307Z
LAST-MODIFIED:20260420T100446Z
UID:10004175-1778927400-1778931000@minnehahaseniorliving.com
SUMMARY:Coffee and chit chat
DESCRIPTION:
URL:https://minnehahaseniorliving.com/event-calendar/coffee-and-chit-chat-69/
LOCATION:Lodge
CATEGORIES:ALF
END:VEVENT
BEGIN:VEVENT
DTSTART;TZID=America/Chicago:20260516T130000
DTEND;TZID=America/Chicago:20260516T140000
DTSTAMP:20260420T060517
CREATED:20260417T081818Z
LAST-MODIFIED:20260420T100320Z
UID:10004174-1778936400-1778940000@minnehahaseniorliving.com
SUMMARY:Table Games: Jinga\, puzzles\, balloon ball
DESCRIPTION:
URL:https://minnehahaseniorliving.com/event-calendar/table-games-jinga-puzzles-balloon-ball-12/
LOCATION:Harmony Place
CATEGORIES:Harmony Place,Rose Court
END:VEVENT
BEGIN:VEVENT
DTSTART;TZID=America/Chicago:20260517T100000
DTEND;TZID=America/Chicago:20260517T110000
DTSTAMP:20260420T060517
CREATED:20260418T094810Z
LAST-MODIFIED:20260420T100446Z
UID:10004177-1779012000-1779015600@minnehahaseniorliving.com
SUMMARY:Resident Led Worship Service
DESCRIPTION:
URL:https://minnehahaseniorliving.com/event-calendar/resident-led-worship-service-47/
LOCATION:Activity Room
CATEGORIES:ALF
END:VEVENT
BEGIN:VEVENT
DTSTART;TZID=America/Chicago:20260517T101500
DTEND;TZID=America/Chicago:20260517T104500
DTSTAMP:20260420T060517
CREATED:20260418T093315Z
LAST-MODIFIED:20260420T100320Z
UID:10004176-1779012900-1779014700@minnehahaseniorliving.com
SUMMARY:Worship Service
DESCRIPTION:
URL:https://minnehahaseniorliving.com/event-calendar/worship-service-93/
LOCATION:Harmony Place
CATEGORIES:Harmony Place
END:VEVENT
BEGIN:VEVENT
DTSTART;TZID=America/Chicago:20260518T093000
DTEND;TZID=America/Chicago:20260518T103000
DTSTAMP:20260420T060517
CREATED:20260419T083315Z
LAST-MODIFIED:20260420T100320Z
UID:10004178-1779096600-1779100200@minnehahaseniorliving.com
SUMMARY:Motown Morning Jazz
DESCRIPTION:
URL:https://minnehahaseniorliving.com/event-calendar/motown-morning-jazz-7/
LOCATION:Harmony Place
CATEGORIES:Harmony Place,Rose Court
END:VEVENT
BEGIN:VEVENT
DTSTART;TZID=America/Chicago:20260518T093000
DTEND;TZID=America/Chicago:20260518T103000
DTSTAMP:20260420T060517
CREATED:20260419T100305Z
LAST-MODIFIED:20260420T100446Z
UID:10004183-1779096600-1779100200@minnehahaseniorliving.com
SUMMARY:ALDI'S Outing
DESCRIPTION:
URL:https://minnehahaseniorliving.com/event-calendar/aldis-outing/
CATEGORIES:ALF
END:VEVENT
BEGIN:VEVENT
DTSTART;TZID=America/Chicago:20260518T100000
DTEND;TZID=America/Chicago:20260518T110000
DTSTAMP:20260420T060517
CREATED:20260419T083315Z
LAST-MODIFIED:20260420T100320Z
UID:10004179-1779098400-1779102000@minnehahaseniorliving.com
SUMMARY:Hand Massages
DESCRIPTION:
URL:https://minnehahaseniorliving.com/event-calendar/hand-massages-3/
LOCATION:Activity Room
CATEGORIES:Harmony Place,Rose Court
END:VEVENT
BEGIN:VEVENT
DTSTART;TZID=America/Chicago:20260518T120000
DTEND;TZID=America/Chicago:20260518T130000
DTSTAMP:20260420T060517
CREATED:20260419T083315Z
LAST-MODIFIED:20260420T100320Z
UID:10004180-1779105600-1779109200@minnehahaseniorliving.com
SUMMARY:Daily Chronicle
DESCRIPTION:
URL:https://minnehahaseniorliving.com/event-calendar/daily-chronicle-71/
LOCATION:Harmony Place
CATEGORIES:Harmony Place,Rose Court
END:VEVENT
BEGIN:VEVENT
DTSTART;TZID=America/Chicago:20260518T130000
DTEND;TZID=America/Chicago:20260518T140000
DTSTAMP:20260420T060517
CREATED:20260419T100305Z
LAST-MODIFIED:20260420T100446Z
UID:10004184-1779109200-1779112800@minnehahaseniorliving.com
SUMMARY:Spiritual Conversation and Communion with Chaplain Liza
DESCRIPTION:
URL:https://minnehahaseniorliving.com/event-calendar/spiritual-conversation-and-communion-with-chaplain-liza-51/
LOCATION:Activity Room
CATEGORIES:ALF
END:VEVENT
BEGIN:VEVENT
DTSTART;TZID=America/Chicago:20260518T133000
DTEND;TZID=America/Chicago:20260518T143000
DTSTAMP:20260420T060517
CREATED:20260419T083315Z
LAST-MODIFIED:20260420T100321Z
UID:10004181-1779111000-1779114600@minnehahaseniorliving.com
SUMMARY:Walking Club
DESCRIPTION:
URL:https://minnehahaseniorliving.com/event-calendar/walking-club-393/
LOCATION:Harmony Place
CATEGORIES:Harmony Place,Rose Court
END:VEVENT
BEGIN:VEVENT
DTSTART;TZID=America/Chicago:20260518T140000
DTEND;TZID=America/Chicago:20260518T150000
DTSTAMP:20260420T060517
CREATED:20260419T100305Z
LAST-MODIFIED:20260420T100446Z
UID:10004185-1779112800-1779116400@minnehahaseniorliving.com
SUMMARY:Maverick's Practice: Robot Soccer
DESCRIPTION:
URL:https://minnehahaseniorliving.com/event-calendar/mavericks-practice-robot-soccer-13/
LOCATION:Lodge
CATEGORIES:ALF
END:VEVENT
BEGIN:VEVENT
DTSTART;TZID=America/Chicago:20260518T150000
DTEND;TZID=America/Chicago:20260518T160000
DTSTAMP:20260420T060517
CREATED:20260419T083316Z
LAST-MODIFIED:20260420T100446Z
UID:10004182-1779116400-1779120000@minnehahaseniorliving.com
SUMMARY:Spring Painting: Flower Decorating
DESCRIPTION:
URL:https://minnehahaseniorliving.com/event-calendar/spring-painting-flower-decorating/
LOCATION:Sunroom
CATEGORIES:ALF,Harmony Place,Rose Court
END:VEVENT
BEGIN:VEVENT
DTSTART;TZID=America/Chicago:20260519T093000
DTEND;TZID=America/Chicago:20260519T100000
DTSTAMP:20260420T060517
CREATED:20260420T083320Z
LAST-MODIFIED:20260420T083320Z
UID:10004186-1779183000-1779184800@minnehahaseniorliving.com
SUMMARY:Gospel Music
DESCRIPTION:
URL:https://minnehahaseniorliving.com/event-calendar/gospel-music-160/
LOCATION:Rose Court
CATEGORIES:Rose Court
END:VEVENT
BEGIN:VEVENT
DTSTART;TZID=America/Chicago:20260519T093000
DTEND;TZID=America/Chicago:20260519T103000
DTSTAMP:20260420T060517
CREATED:20260420T083320Z
LAST-MODIFIED:20260420T100321Z
UID:10004187-1779183000-1779186600@minnehahaseniorliving.com
SUMMARY:Gospel Music
DESCRIPTION:
URL:https://minnehahaseniorliving.com/event-calendar/gospel-music-161/
LOCATION:Harmony Place
CATEGORIES:Harmony Place,Rose Court
END:VEVENT
BEGIN:VEVENT
DTSTART;TZID=America/Chicago:20260519T100000
DTEND;TZID=America/Chicago:20260519T110000
DTSTAMP:20260420T060517
CREATED:20260420T083321Z
LAST-MODIFIED:20260420T100321Z
UID:10004188-1779184800-1779188400@minnehahaseniorliving.com
SUMMARY:Having A Ball with Lana
DESCRIPTION:
URL:https://minnehahaseniorliving.com/event-calendar/having-a-ball-with-lana-15/
LOCATION:Harmony Place
CATEGORIES:Harmony Place,Rose Court
END:VEVENT
BEGIN:VEVENT
DTSTART;TZID=America/Chicago:20260519T110000
DTEND;TZID=America/Chicago:20260519T120000
DTSTAMP:20260420T060517
CREATED:20260420T100306Z
LAST-MODIFIED:20260420T100446Z
UID:10004193-1779188400-1779192000@minnehahaseniorliving.com
SUMMARY:Having a ball With Lana!
DESCRIPTION:
URL:https://minnehahaseniorliving.com/event-calendar/having-a-ball-with-lana-16/
LOCATION:Activity Room
CATEGORIES:ALF
END:VEVENT
BEGIN:VEVENT
DTSTART;TZID=America/Chicago:20260519T120000
DTEND;TZID=America/Chicago:20260519T130000
DTSTAMP:20260420T060517
CREATED:20260420T083321Z
LAST-MODIFIED:20260420T100321Z
UID:10004189-1779192000-1779195600@minnehahaseniorliving.com
SUMMARY:Daily Chronicle
DESCRIPTION:
URL:https://minnehahaseniorliving.com/event-calendar/daily-chronicle-72/
LOCATION:Harmony Place
CATEGORIES:Harmony Place,Rose Court
END:VEVENT
BEGIN:VEVENT
DTSTART;TZID=America/Chicago:20260519T130000
DTEND;TZID=America/Chicago:20260519T140000
DTSTAMP:20260420T060517
CREATED:20260420T083321Z
LAST-MODIFIED:20260420T100447Z
UID:10004190-1779195600-1779199200@minnehahaseniorliving.com
SUMMARY:Robot Soccer League
DESCRIPTION:
URL:https://minnehahaseniorliving.com/event-calendar/robot-soccer-league-3/
LOCATION:Harmony Place
CATEGORIES:ALF,Harmony Place,Rose Court
END:VEVENT
BEGIN:VEVENT
DTSTART;TZID=America/Chicago:20260519T140000
DTEND;TZID=America/Chicago:20260519T150000
DTSTAMP:20260420T060517
CREATED:20260420T100306Z
LAST-MODIFIED:20260420T100458Z
UID:10004194-1779199200-1779202800@minnehahaseniorliving.com
SUMMARY:Bible Study with Chaplain Jared
DESCRIPTION:
URL:https://minnehahaseniorliving.com/event-calendar/bible-study-with-chaplain-jared-50/
LOCATION:Activity Room
CATEGORIES:ALF
END:VEVENT
BEGIN:VEVENT
DTSTART;TZID=America/Chicago:20260519T143000
DTEND;TZID=America/Chicago:20260519T153000
DTSTAMP:20260420T060517
CREATED:20260420T083321Z
LAST-MODIFIED:20260420T100322Z
UID:10004191-1779201000-1779204600@minnehahaseniorliving.com
SUMMARY:Spring Bingo
DESCRIPTION:
URL:https://minnehahaseniorliving.com/event-calendar/spring-bingo-2/
LOCATION:Harmony Place
CATEGORIES:Harmony Place,Rose Court
END:VEVENT
BEGIN:VEVENT
DTSTART;TZID=America/Chicago:20260519T150000
DTEND;TZID=America/Chicago:20260519T160000
DTSTAMP:20260420T060517
CREATED:20260420T100307Z
LAST-MODIFIED:20260420T100459Z
UID:10004195-1779202800-1779206400@minnehahaseniorliving.com
SUMMARY:Ice Cream Social N Karaoke
DESCRIPTION:
URL:https://minnehahaseniorliving.com/event-calendar/ice-cream-social-n-karaoke/
LOCATION:Dining Room
CATEGORIES:ALF
END:VEVENT
BEGIN:VEVENT
DTSTART;TZID=America/Chicago:20260519T160000
DTEND;TZID=America/Chicago:20260519T170000
DTSTAMP:20260420T060517
CREATED:20260420T083321Z
LAST-MODIFIED:20260420T100322Z
UID:10004192-1779206400-1779210000@minnehahaseniorliving.com
SUMMARY:Walking Club
DESCRIPTION:
URL:https://minnehahaseniorliving.com/event-calendar/walking-club-394/
LOCATION:Harmony Place
CATEGORIES:Harmony Place,Rose Court
END:VEVENT
END:VCALENDAR