BEGIN:VCALENDAR
VERSION:2.0
PRODID:-//Minnehaha: Senior Living in Minneapolis - ECPv6.13.2.1//NONSGML v1.0//EN
CALSCALE:GREGORIAN
METHOD:PUBLISH
X-WR-CALNAME:Minnehaha: Senior Living in Minneapolis
X-ORIGINAL-URL:https://minnehahaseniorliving.com
X-WR-CALDESC:Events for Minnehaha: Senior Living in Minneapolis
REFRESH-INTERVAL;VALUE=DURATION:PT1H
X-Robots-Tag:noindex
X-PUBLISHED-TTL:PT1H
BEGIN:VTIMEZONE
TZID:America/Chicago
BEGIN:DAYLIGHT
TZOFFSETFROM:-0600
TZOFFSETTO:-0500
TZNAME:CDT
DTSTART:20260308T080000
END:DAYLIGHT
BEGIN:STANDARD
TZOFFSETFROM:-0500
TZOFFSETTO:-0600
TZNAME:CST
DTSTART:20261101T070000
END:STANDARD
END:VTIMEZONE
BEGIN:VEVENT
DTSTART;TZID=America/Chicago:20260518T150000
DTEND;TZID=America/Chicago:20260518T160000
DTSTAMP:20260422T173906
CREATED:20260419T083316Z
LAST-MODIFIED:20260422T103309Z
UID:10004182-1779116400-1779120000@minnehahaseniorliving.com
SUMMARY:Spring Painting: Flower Decorating
DESCRIPTION:
URL:https://minnehahaseniorliving.com/event-calendar/spring-painting-flower-decorating/
LOCATION:Sunroom
CATEGORIES:ALF,Harmony Place,Rose Court
END:VEVENT
BEGIN:VEVENT
DTSTART;TZID=America/Chicago:20260519T093000
DTEND;TZID=America/Chicago:20260519T100000
DTSTAMP:20260422T173906
CREATED:20260420T083320Z
LAST-MODIFIED:20260422T084811Z
UID:10004186-1779183000-1779184800@minnehahaseniorliving.com
SUMMARY:Gospel Music
DESCRIPTION:
URL:https://minnehahaseniorliving.com/event-calendar/gospel-music-160/
LOCATION:Rose Court
CATEGORIES:Rose Court
END:VEVENT
BEGIN:VEVENT
DTSTART;TZID=America/Chicago:20260519T093000
DTEND;TZID=America/Chicago:20260519T103000
DTSTAMP:20260422T173906
CREATED:20260420T083320Z
LAST-MODIFIED:20260422T100516Z
UID:10004187-1779183000-1779186600@minnehahaseniorliving.com
SUMMARY:Gospel Music
DESCRIPTION:
URL:https://minnehahaseniorliving.com/event-calendar/gospel-music-161/
LOCATION:Harmony Place
CATEGORIES:Harmony Place,Rose Court
END:VEVENT
BEGIN:VEVENT
DTSTART;TZID=America/Chicago:20260519T100000
DTEND;TZID=America/Chicago:20260519T110000
DTSTAMP:20260422T173906
CREATED:20260420T083321Z
LAST-MODIFIED:20260422T100516Z
UID:10004188-1779184800-1779188400@minnehahaseniorliving.com
SUMMARY:Having A Ball with Lana
DESCRIPTION:
URL:https://minnehahaseniorliving.com/event-calendar/having-a-ball-with-lana-15/
LOCATION:Harmony Place
CATEGORIES:Harmony Place,Rose Court
END:VEVENT
BEGIN:VEVENT
DTSTART;TZID=America/Chicago:20260519T120000
DTEND;TZID=America/Chicago:20260519T130000
DTSTAMP:20260422T173906
CREATED:20260420T083321Z
LAST-MODIFIED:20260422T100516Z
UID:10004189-1779192000-1779195600@minnehahaseniorliving.com
SUMMARY:Daily Chronicle
DESCRIPTION:
URL:https://minnehahaseniorliving.com/event-calendar/daily-chronicle-72/
LOCATION:Harmony Place
CATEGORIES:Harmony Place,Rose Court
END:VEVENT
BEGIN:VEVENT
DTSTART;TZID=America/Chicago:20260519T130000
DTEND;TZID=America/Chicago:20260519T140000
DTSTAMP:20260422T173906
CREATED:20260420T083321Z
LAST-MODIFIED:20260422T103310Z
UID:10004190-1779195600-1779199200@minnehahaseniorliving.com
SUMMARY:Robot Soccer League
DESCRIPTION:
URL:https://minnehahaseniorliving.com/event-calendar/robot-soccer-league-3/
LOCATION:Harmony Place
CATEGORIES:ALF,Harmony Place,Rose Court
END:VEVENT
BEGIN:VEVENT
DTSTART;TZID=America/Chicago:20260519T143000
DTEND;TZID=America/Chicago:20260519T153000
DTSTAMP:20260422T173906
CREATED:20260420T083321Z
LAST-MODIFIED:20260422T100527Z
UID:10004191-1779201000-1779204600@minnehahaseniorliving.com
SUMMARY:Spring Bingo
DESCRIPTION:
URL:https://minnehahaseniorliving.com/event-calendar/spring-bingo-2/
LOCATION:Harmony Place
CATEGORIES:Harmony Place,Rose Court
END:VEVENT
BEGIN:VEVENT
DTSTART;TZID=America/Chicago:20260519T160000
DTEND;TZID=America/Chicago:20260519T170000
DTSTAMP:20260422T173906
CREATED:20260420T083321Z
LAST-MODIFIED:20260422T100528Z
UID:10004192-1779206400-1779210000@minnehahaseniorliving.com
SUMMARY:Walking Club
DESCRIPTION:
URL:https://minnehahaseniorliving.com/event-calendar/walking-club-394/
LOCATION:Harmony Place
CATEGORIES:Harmony Place,Rose Court
END:VEVENT
BEGIN:VEVENT
DTSTART;TZID=America/Chicago:20260520T093000
DTEND;TZID=America/Chicago:20260520T103000
DTSTAMP:20260422T173906
CREATED:20260421T083315Z
LAST-MODIFIED:20260422T100528Z
UID:10004196-1779269400-1779273000@minnehahaseniorliving.com
SUMMARY:Hymn Singing
DESCRIPTION:
URL:https://minnehahaseniorliving.com/event-calendar/hymn-singing-10/
LOCATION:Harmony Place
CATEGORIES:Harmony Place,Rose Court
END:VEVENT
BEGIN:VEVENT
DTSTART;TZID=America/Chicago:20260520T100000
DTEND;TZID=America/Chicago:20260520T110000
DTSTAMP:20260422T173906
CREATED:20260421T083315Z
LAST-MODIFIED:20260422T100528Z
UID:10004197-1779271200-1779274800@minnehahaseniorliving.com
SUMMARY:Muffins and Mimosas
DESCRIPTION:
URL:https://minnehahaseniorliving.com/event-calendar/muffins-and-mimosas-8/
LOCATION:Activity Room
CATEGORIES:Harmony Place,Rose Court
END:VEVENT
BEGIN:VEVENT
DTSTART;TZID=America/Chicago:20260520T120000
DTEND;TZID=America/Chicago:20260520T130000
DTSTAMP:20260422T173906
CREATED:20260421T083315Z
LAST-MODIFIED:20260422T100528Z
UID:10004198-1779278400-1779282000@minnehahaseniorliving.com
SUMMARY:Daily Chronicle
DESCRIPTION:
URL:https://minnehahaseniorliving.com/event-calendar/daily-chronicle-73/
LOCATION:Harmony Place
CATEGORIES:Harmony Place,Rose Court
END:VEVENT
BEGIN:VEVENT
DTSTART;TZID=America/Chicago:20260520T140000
DTEND;TZID=America/Chicago:20260520T150000
DTSTAMP:20260422T173906
CREATED:20260421T083316Z
LAST-MODIFIED:20260422T100528Z
UID:10004199-1779285600-1779289200@minnehahaseniorliving.com
SUMMARY:Watercoloring
DESCRIPTION:
URL:https://minnehahaseniorliving.com/event-calendar/watercoloring-8/
LOCATION:Harmony Place
CATEGORIES:Harmony Place,Rose Court
END:VEVENT
BEGIN:VEVENT
DTSTART;TZID=America/Chicago:20260520T154500
DTEND;TZID=America/Chicago:20260520T164500
DTSTAMP:20260422T173906
CREATED:20260421T083316Z
LAST-MODIFIED:20260422T100529Z
UID:10004200-1779291900-1779295500@minnehahaseniorliving.com
SUMMARY:Trash Club
DESCRIPTION:
URL:https://minnehahaseniorliving.com/event-calendar/trash-club-7/
LOCATION:Lobby
CATEGORIES:Harmony Place,Rose Court
END:VEVENT
BEGIN:VEVENT
DTSTART;TZID=America/Chicago:20260521T093000
DTEND;TZID=America/Chicago:20260521T103000
DTSTAMP:20260422T173906
CREATED:20260422T084812Z
LAST-MODIFIED:20260422T100529Z
UID:10004203-1779355800-1779359400@minnehahaseniorliving.com
SUMMARY:Devotions
DESCRIPTION:
URL:https://minnehahaseniorliving.com/event-calendar/devotions-55/
LOCATION:Harmony Place
CATEGORIES:Harmony Place,Rose Court
END:VEVENT
BEGIN:VEVENT
DTSTART;TZID=America/Chicago:20260521T100000
DTEND;TZID=America/Chicago:20260521T110000
DTSTAMP:20260422T173906
CREATED:20260422T084812Z
LAST-MODIFIED:20260422T100529Z
UID:10004204-1779357600-1779361200@minnehahaseniorliving.com
SUMMARY:Arts & Crafts: Spring canvases
DESCRIPTION:
URL:https://minnehahaseniorliving.com/event-calendar/arts-crafts-spring-canvases-12/
LOCATION:Harmony Place
CATEGORIES:Harmony Place,Rose Court
END:VEVENT
BEGIN:VEVENT
DTSTART;TZID=America/Chicago:20260521T110000
DTEND;TZID=America/Chicago:20260521T120000
DTSTAMP:20260422T173906
CREATED:20260422T084812Z
LAST-MODIFIED:20260422T100529Z
UID:10004205-1779361200-1779364800@minnehahaseniorliving.com
SUMMARY:Group Exercise With Lyn
DESCRIPTION:
URL:https://minnehahaseniorliving.com/event-calendar/group-exercise-with-lyn-8/
LOCATION:Harmony Place
CATEGORIES:Harmony Place,Rose Court
END:VEVENT
BEGIN:VEVENT
DTSTART;TZID=America/Chicago:20260521T120000
DTEND;TZID=America/Chicago:20260521T130000
DTSTAMP:20260422T173906
CREATED:20260422T084812Z
LAST-MODIFIED:20260422T100540Z
UID:10004206-1779364800-1779368400@minnehahaseniorliving.com
SUMMARY:Daily Chronicle
DESCRIPTION:
URL:https://minnehahaseniorliving.com/event-calendar/daily-chronicle-74/
LOCATION:Harmony Place
CATEGORIES:Harmony Place,Rose Court
END:VEVENT
BEGIN:VEVENT
DTSTART;TZID=America/Chicago:20260521T140000
DTEND;TZID=America/Chicago:20260521T150000
DTSTAMP:20260422T173906
CREATED:20260422T084812Z
LAST-MODIFIED:20260422T100540Z
UID:10004207-1779372000-1779375600@minnehahaseniorliving.com
SUMMARY:Happy Hour
DESCRIPTION:
URL:https://minnehahaseniorliving.com/event-calendar/happy-hour-46/
LOCATION:Dining Room
CATEGORIES:Harmony Place,Rose Court
END:VEVENT
BEGIN:VEVENT
DTSTART;TZID=America/Chicago:20260521T160000
DTEND;TZID=America/Chicago:20260521T170000
DTSTAMP:20260422T173906
CREATED:20260422T084812Z
LAST-MODIFIED:20260422T100540Z
UID:10004208-1779379200-1779382800@minnehahaseniorliving.com
SUMMARY:Walking Club
DESCRIPTION:
URL:https://minnehahaseniorliving.com/event-calendar/walking-club-395/
LOCATION:Harmony Place
CATEGORIES:Harmony Place,Rose Court
END:VEVENT
END:VCALENDAR