BEGIN:VCALENDAR
VERSION:2.0
PRODID:-//Minnehaha: Senior Living in Minneapolis - ECPv6.13.2.1//NONSGML v1.0//EN
CALSCALE:GREGORIAN
METHOD:PUBLISH
X-ORIGINAL-URL:https://minnehahaseniorliving.com
X-WR-CALDESC:Events for Minnehaha: Senior Living in Minneapolis
REFRESH-INTERVAL;VALUE=DURATION:PT1H
X-Robots-Tag:noindex
X-PUBLISHED-TTL:PT1H
BEGIN:VTIMEZONE
TZID:America/Chicago
BEGIN:DAYLIGHT
TZOFFSETFROM:-0600
TZOFFSETTO:-0500
TZNAME:CDT
DTSTART:20260308T080000
END:DAYLIGHT
BEGIN:STANDARD
TZOFFSETFROM:-0500
TZOFFSETTO:-0600
TZNAME:CST
DTSTART:20261101T070000
END:STANDARD
END:VTIMEZONE
BEGIN:VEVENT
DTSTART;TZID=America/Chicago:20260512T093000
DTEND;TZID=America/Chicago:20260512T100000
DTSTAMP:20260423T122241
CREATED:20260413T081805Z
LAST-MODIFIED:20260423T084807Z
UID:10004115-1778578200-1778580000@minnehahaseniorliving.com
SUMMARY:Gospel Music
DESCRIPTION:
URL:https://minnehahaseniorliving.com/event-calendar/gospel-music-158/
LOCATION:Rose Court
CATEGORIES:Rose Court
END:VEVENT
BEGIN:VEVENT
DTSTART;TZID=America/Chicago:20260512T093000
DTEND;TZID=America/Chicago:20260512T103000
DTSTAMP:20260423T122241
CREATED:20260413T081805Z
LAST-MODIFIED:20260423T100301Z
UID:10004116-1778578200-1778581800@minnehahaseniorliving.com
SUMMARY:Gospel Music
DESCRIPTION:
URL:https://minnehahaseniorliving.com/event-calendar/gospel-music-159/
LOCATION:Harmony Place
CATEGORIES:Harmony Place,Rose Court
END:VEVENT
BEGIN:VEVENT
DTSTART;TZID=America/Chicago:20260512T100000
DTEND;TZID=America/Chicago:20260512T110000
DTSTAMP:20260423T122241
CREATED:20260413T081805Z
LAST-MODIFIED:20260415T091811Z
UID:10004117-1778580000-1778583600@minnehahaseniorliving.com
SUMMARY:Manicures
DESCRIPTION:
URL:https://minnehahaseniorliving.com/event-calendar/manicures-26/
LOCATION:Harmony Place
CATEGORIES:Harmony Place,Rose Court
END:VEVENT
BEGIN:VEVENT
DTSTART;TZID=America/Chicago:20260512T100000
DTEND;TZID=America/Chicago:20260512T110000
DTSTAMP:20260423T122241
CREATED:20260416T081818Z
LAST-MODIFIED:20260423T100301Z
UID:10004160-1778580000-1778583600@minnehahaseniorliving.com
SUMMARY:Having A Ball with Lana
DESCRIPTION:
URL:https://minnehahaseniorliving.com/event-calendar/having-a-ball-with-lana-14/
LOCATION:Harmony Place
CATEGORIES:Harmony Place,Rose Court
END:VEVENT
BEGIN:VEVENT
DTSTART;TZID=America/Chicago:20260512T110000
DTEND;TZID=America/Chicago:20260512T120000
DTSTAMP:20260423T122241
CREATED:20260413T091807Z
LAST-MODIFIED:20260423T103305Z
UID:10004122-1778583600-1778587200@minnehahaseniorliving.com
SUMMARY:Having a ball With Lana!
DESCRIPTION:
URL:https://minnehahaseniorliving.com/event-calendar/having-a-ball-with-lana-12/
LOCATION:Activity Room
CATEGORIES:ALF
END:VEVENT
BEGIN:VEVENT
DTSTART;TZID=America/Chicago:20260512T120000
DTEND;TZID=America/Chicago:20260512T130000
DTSTAMP:20260423T122241
CREATED:20260413T081805Z
LAST-MODIFIED:20260423T100301Z
UID:10004118-1778587200-1778590800@minnehahaseniorliving.com
SUMMARY:Daily Chronicle
DESCRIPTION:
URL:https://minnehahaseniorliving.com/event-calendar/daily-chronicle-67/
LOCATION:Harmony Place
CATEGORIES:Harmony Place,Rose Court
END:VEVENT
BEGIN:VEVENT
DTSTART;TZID=America/Chicago:20260512T130000
DTEND;TZID=America/Chicago:20260512T140000
DTSTAMP:20260423T122241
CREATED:20260413T081805Z
LAST-MODIFIED:20260423T103305Z
UID:10004119-1778590800-1778594400@minnehahaseniorliving.com
SUMMARY:Robot Soccer League
DESCRIPTION:
URL:https://minnehahaseniorliving.com/event-calendar/robot-soccer-league-2/
LOCATION:Harmony Place
CATEGORIES:ALF,Harmony Place,Rose Court
END:VEVENT
BEGIN:VEVENT
DTSTART;TZID=America/Chicago:20260512T130000
DTEND;TZID=America/Chicago:20260512T140000
DTSTAMP:20260423T122241
CREATED:20260413T091808Z
LAST-MODIFIED:20260413T091808Z
UID:10004123-1778590800-1778594400@minnehahaseniorliving.com
SUMMARY:Robot Soccer Competition
DESCRIPTION:
URL:https://minnehahaseniorliving.com/event-calendar/robot-soccer-competition/
LOCATION:Activity Room
CATEGORIES:ALF
END:VEVENT
BEGIN:VEVENT
DTSTART;TZID=America/Chicago:20260512T140000
DTEND;TZID=America/Chicago:20260512T150000
DTSTAMP:20260423T122241
CREATED:20260413T091808Z
LAST-MODIFIED:20260423T103305Z
UID:10004124-1778594400-1778598000@minnehahaseniorliving.com
SUMMARY:Bible Study with Chaplain Jared
DESCRIPTION:
URL:https://minnehahaseniorliving.com/event-calendar/bible-study-with-chaplain-jared-49/
LOCATION:Activity Room
CATEGORIES:ALF
END:VEVENT
BEGIN:VEVENT
DTSTART;TZID=America/Chicago:20260512T140000
DTEND;TZID=America/Chicago:20260512T150000
DTSTAMP:20260423T122241
CREATED:20260413T091808Z
LAST-MODIFIED:20260423T103305Z
UID:10004125-1778594400-1778598000@minnehahaseniorliving.com
SUMMARY:Resident Council
DESCRIPTION:
URL:https://minnehahaseniorliving.com/event-calendar/resident-council-4/
LOCATION:Lodge
CATEGORIES:ALF
END:VEVENT
BEGIN:VEVENT
DTSTART;TZID=America/Chicago:20260512T143000
DTEND;TZID=America/Chicago:20260512T153000
DTSTAMP:20260423T122241
CREATED:20260413T081806Z
LAST-MODIFIED:20260423T100301Z
UID:10004120-1778596200-1778599800@minnehahaseniorliving.com
SUMMARY:Spring Bingo
DESCRIPTION:
URL:https://minnehahaseniorliving.com/event-calendar/spring-bingo/
LOCATION:Harmony Place
CATEGORIES:Harmony Place,Rose Court
END:VEVENT
BEGIN:VEVENT
DTSTART;TZID=America/Chicago:20260512T150000
DTEND;TZID=America/Chicago:20260512T160000
DTSTAMP:20260423T122241
CREATED:20260413T091808Z
LAST-MODIFIED:20260423T103305Z
UID:10004126-1778598000-1778601600@minnehahaseniorliving.com
SUMMARY:Cokes & Karaoke
DESCRIPTION:
URL:https://minnehahaseniorliving.com/event-calendar/cokes-karaoke-2/
LOCATION:Dining Room
CATEGORIES:ALF
END:VEVENT
BEGIN:VEVENT
DTSTART;TZID=America/Chicago:20260512T161500
DTEND;TZID=America/Chicago:20260512T171500
DTSTAMP:20260423T122241
CREATED:20260413T081806Z
LAST-MODIFIED:20260423T100302Z
UID:10004121-1778602500-1778606100@minnehahaseniorliving.com
SUMMARY:Walking Club
DESCRIPTION:
URL:https://minnehahaseniorliving.com/event-calendar/walking-club-387/
LOCATION:Harmony Place
CATEGORIES:Harmony Place,Rose Court
END:VEVENT
END:VCALENDAR