BEGIN:VCALENDAR
VERSION:2.0
PRODID:-//Minnehaha: Senior Living in Minneapolis - ECPv6.13.2.1//NONSGML v1.0//EN
CALSCALE:GREGORIAN
METHOD:PUBLISH
X-ORIGINAL-URL:https://minnehahaseniorliving.com
X-WR-CALDESC:Events for Minnehaha: Senior Living in Minneapolis
REFRESH-INTERVAL;VALUE=DURATION:PT1H
X-Robots-Tag:noindex
X-PUBLISHED-TTL:PT1H
BEGIN:VTIMEZONE
TZID:America/Chicago
BEGIN:DAYLIGHT
TZOFFSETFROM:-0600
TZOFFSETTO:-0500
TZNAME:CDT
DTSTART:20260308T080000
END:DAYLIGHT
BEGIN:STANDARD
TZOFFSETFROM:-0500
TZOFFSETTO:-0600
TZNAME:CST
DTSTART:20261101T070000
END:STANDARD
END:VTIMEZONE
BEGIN:VEVENT
DTSTART;TZID=America/Chicago:20260201T100000
DTEND;TZID=America/Chicago:20260201T110000
DTSTAMP:20260420T022213
CREATED:20260122T043256Z
LAST-MODIFIED:20260201T044755Z
UID:10003062-1769940000-1769943600@minnehahaseniorliving.com
SUMMARY:Resident Led Worship Service
DESCRIPTION:
URL:https://minnehahaseniorliving.com/event-calendar/resident-led-worship-service-32/
LOCATION:Activity Room
CATEGORIES:ALF
END:VEVENT
BEGIN:VEVENT
DTSTART;TZID=America/Chicago:20260201T101500
DTEND;TZID=America/Chicago:20260201T104500
DTSTAMP:20260420T022213
CREATED:20260103T013301Z
LAST-MODIFIED:20260201T033259Z
UID:10002808-1769940900-1769942700@minnehahaseniorliving.com
SUMMARY:Worship Service
DESCRIPTION:
URL:https://minnehahaseniorliving.com/event-calendar/worship-service-72/
LOCATION:Harmony Place
CATEGORIES:Harmony Place
END:VEVENT
BEGIN:VEVENT
DTSTART;TZID=America/Chicago:20260201T110000
DTEND;TZID=America/Chicago:20260201T113000
DTSTAMP:20260420T022213
CREATED:20260122T024757Z
LAST-MODIFIED:20260201T031807Z
UID:10003041-1769943600-1769945400@minnehahaseniorliving.com
SUMMARY:Storytime
DESCRIPTION:
URL:https://minnehahaseniorliving.com/event-calendar/storytime-40/
LOCATION:Rose Court
CATEGORIES:Rose Court
END:VEVENT
BEGIN:VEVENT
DTSTART;TZID=America/Chicago:20260201T113000
DTEND;TZID=America/Chicago:20260201T120000
DTSTAMP:20260420T022213
CREATED:20260103T013301Z
LAST-MODIFIED:20260201T033259Z
UID:10002809-1769945400-1769947200@minnehahaseniorliving.com
SUMMARY:Daily Chronicles
DESCRIPTION:
URL:https://minnehahaseniorliving.com/event-calendar/daily-chronicles-250/
CATEGORIES:Harmony Place,Rose Court
END:VEVENT
BEGIN:VEVENT
DTSTART;TZID=America/Chicago:20260201T130000
DTEND;TZID=America/Chicago:20260201T133000
DTSTAMP:20260420T022213
CREATED:20260103T013301Z
LAST-MODIFIED:20260201T033259Z
UID:10002810-1769950800-1769952600@minnehahaseniorliving.com
SUMMARY:Bingo!
DESCRIPTION:
URL:https://minnehahaseniorliving.com/event-calendar/bingo-62/
LOCATION:Harmony Place
CATEGORIES:Harmony Place
END:VEVENT
BEGIN:VEVENT
DTSTART;TZID=America/Chicago:20260201T140000
DTEND;TZID=America/Chicago:20260201T143000
DTSTAMP:20260420T022213
CREATED:20260103T030301Z
LAST-MODIFIED:20260201T044755Z
UID:10002815-1769954400-1769956200@minnehahaseniorliving.com
SUMMARY:Book Talk & Tea
DESCRIPTION:
URL:https://minnehahaseniorliving.com/event-calendar/book-talk-tea-3/
LOCATION:Activity Room
CATEGORIES:ALF
END:VEVENT
BEGIN:VEVENT
DTSTART;TZID=America/Chicago:20260201T150000
DTEND;TZID=America/Chicago:20260201T153000
DTSTAMP:20260420T022213
CREATED:20260122T024757Z
LAST-MODIFIED:20260201T031807Z
UID:10003042-1769958000-1769959800@minnehahaseniorliving.com
SUMMARY:Bingo
DESCRIPTION:
URL:https://minnehahaseniorliving.com/event-calendar/bingo-66/
LOCATION:Rose Court
CATEGORIES:Rose Court
END:VEVENT
BEGIN:VEVENT
DTSTART;TZID=America/Chicago:20260201T150000
DTEND;TZID=America/Chicago:20260201T153000
DTSTAMP:20260420T022213
CREATED:20260122T043256Z
LAST-MODIFIED:20260201T044755Z
UID:10003063-1769958000-1769959800@minnehahaseniorliving.com
SUMMARY:Lobby Games
DESCRIPTION:
URL:https://minnehahaseniorliving.com/event-calendar/lobby-games-35/
LOCATION:Lobby
CATEGORIES:ALF
END:VEVENT
BEGIN:VEVENT
DTSTART;TZID=America/Chicago:20260201T160000
DTEND;TZID=America/Chicago:20260201T163000
DTSTAMP:20260420T022213
CREATED:20260103T013302Z
LAST-MODIFIED:20260201T033259Z
UID:10002811-1769961600-1769963400@minnehahaseniorliving.com
SUMMARY:Walking Club
DESCRIPTION:
URL:https://minnehahaseniorliving.com/event-calendar/walking-club-241/
CATEGORIES:Harmony Place,Rose Court
END:VEVENT
END:VCALENDAR