BEGIN:VCALENDAR
VERSION:2.0
PRODID:-//Minnehaha: Senior Living in Minneapolis - ECPv6.13.2.1//NONSGML v1.0//EN
CALSCALE:GREGORIAN
METHOD:PUBLISH
X-ORIGINAL-URL:https://minnehahaseniorliving.com
X-WR-CALDESC:Events for Minnehaha: Senior Living in Minneapolis
REFRESH-INTERVAL;VALUE=DURATION:PT1H
X-Robots-Tag:noindex
X-PUBLISHED-TTL:PT1H
BEGIN:VTIMEZONE
TZID:America/Chicago
BEGIN:DAYLIGHT
TZOFFSETFROM:-0600
TZOFFSETTO:-0500
TZNAME:CDT
DTSTART:20260308T080000
END:DAYLIGHT
BEGIN:STANDARD
TZOFFSETFROM:-0500
TZOFFSETTO:-0600
TZNAME:CST
DTSTART:20261101T070000
END:STANDARD
END:VTIMEZONE
BEGIN:VEVENT
DTSTART;TZID=America/Chicago:20260130T100000
DTEND;TZID=America/Chicago:20260130T103000
DTSTAMP:20260420T022206
CREATED:20260101T013316Z
LAST-MODIFIED:20260113T021800Z
UID:10002792-1769767200-1769769000@minnehahaseniorliving.com
SUMMARY:Virtual Worship Service
DESCRIPTION:
URL:https://minnehahaseniorliving.com/event-calendar/virtual-worship-service-37/
CATEGORIES:Harmony Place,Rose Court
END:VEVENT
BEGIN:VEVENT
DTSTART;TZID=America/Chicago:20260130T100000
DTEND;TZID=America/Chicago:20260130T103000
DTSTAMP:20260420T022206
CREATED:20260114T014758Z
LAST-MODIFIED:20260130T033301Z
UID:10002886-1769767200-1769769000@minnehahaseniorliving.com
SUMMARY:Worship Service with Liza
DESCRIPTION:
URL:https://minnehahaseniorliving.com/event-calendar/virtual-worship-service-39/
LOCATION:Harmony Place
CATEGORIES:Harmony Place,Rose Court
END:VEVENT
BEGIN:VEVENT
DTSTART;TZID=America/Chicago:20260130T110000
DTEND;TZID=America/Chicago:20260130T120000
DTSTAMP:20260420T022206
CREATED:20260101T030259Z
LAST-MODIFIED:20260130T043256Z
UID:10002799-1769770800-1769774400@minnehahaseniorliving.com
SUMMARY:Pump It up With Lana !
DESCRIPTION:
URL:https://minnehahaseniorliving.com/event-calendar/pump-it-up-with-lana-28/
LOCATION:Activity Room
CATEGORIES:ALF
END:VEVENT
BEGIN:VEVENT
DTSTART;TZID=America/Chicago:20260130T113000
DTEND;TZID=America/Chicago:20260130T120000
DTSTAMP:20260420T022206
CREATED:20260101T013316Z
LAST-MODIFIED:20260130T033301Z
UID:10002793-1769772600-1769774400@minnehahaseniorliving.com
SUMMARY:Daily Chronicles
DESCRIPTION:
URL:https://minnehahaseniorliving.com/event-calendar/daily-chronicles-248/
CATEGORIES:Harmony Place,Rose Court
END:VEVENT
BEGIN:VEVENT
DTSTART;TZID=America/Chicago:20260130T130000
DTEND;TZID=America/Chicago:20260130T140000
DTSTAMP:20260420T022206
CREATED:20260101T030259Z
LAST-MODIFIED:20260130T043256Z
UID:10002800-1769778000-1769781600@minnehahaseniorliving.com
SUMMARY:The Really Big Show
DESCRIPTION:
URL:https://minnehahaseniorliving.com/event-calendar/the-really-big-show-19/
LOCATION:Lodge
CATEGORIES:ALF
END:VEVENT
BEGIN:VEVENT
DTSTART;TZID=America/Chicago:20260130T133000
DTEND;TZID=America/Chicago:20260130T140000
DTSTAMP:20260420T022206
CREATED:20260101T030259Z
LAST-MODIFIED:20260130T043256Z
UID:10002801-1769779800-1769781600@minnehahaseniorliving.com
SUMMARY:Worship Service with Kurt
DESCRIPTION:
URL:https://minnehahaseniorliving.com/event-calendar/worship-service-with-kurt-36/
LOCATION:Activity Room
CATEGORIES:ALF
END:VEVENT
BEGIN:VEVENT
DTSTART;TZID=America/Chicago:20260130T140000
DTEND;TZID=America/Chicago:20260130T143000
DTSTAMP:20260420T022206
CREATED:20260101T013316Z
LAST-MODIFIED:20260130T033301Z
UID:10002794-1769781600-1769783400@minnehahaseniorliving.com
SUMMARY:Snowball toss
DESCRIPTION:
URL:https://minnehahaseniorliving.com/event-calendar/tic-tac-toe-4/
LOCATION:Harmony Place
CATEGORIES:Harmony Place
END:VEVENT
BEGIN:VEVENT
DTSTART;TZID=America/Chicago:20260130T140000
DTEND;TZID=America/Chicago:20260130T150000
DTSTAMP:20260420T022206
CREATED:20260101T030259Z
LAST-MODIFIED:20260130T043256Z
UID:10002802-1769781600-1769785200@minnehahaseniorliving.com
SUMMARY:Gospel Music with David
DESCRIPTION:
URL:https://minnehahaseniorliving.com/event-calendar/karaoke-fridays-3/
LOCATION:Dining Room
CATEGORIES:ALF
END:VEVENT
BEGIN:VEVENT
DTSTART;TZID=America/Chicago:20260130T143000
DTEND;TZID=America/Chicago:20260130T150000
DTSTAMP:20260420T022206
CREATED:20260103T020302Z
LAST-MODIFIED:20260130T031758Z
UID:10002814-1769783400-1769785200@minnehahaseniorliving.com
SUMMARY:Arts and Crafts: Sponge Painting
DESCRIPTION:
URL:https://minnehahaseniorliving.com/event-calendar/arts-and-crafts-sponge-painting/
LOCATION:Rose Court
CATEGORIES:Rose Court
END:VEVENT
BEGIN:VEVENT
DTSTART;TZID=America/Chicago:20260130T143000
DTEND;TZID=America/Chicago:20260130T160000
DTSTAMP:20260420T022206
CREATED:20260101T020301Z
LAST-MODIFIED:20260102T020308Z
UID:10002796-1769783400-1769788800@minnehahaseniorliving.com
SUMMARY:Friday Dance Party!
DESCRIPTION:
URL:https://minnehahaseniorliving.com/event-calendar/friday-dance-party-35/
CATEGORIES:Rose Court
END:VEVENT
BEGIN:VEVENT
DTSTART;TZID=America/Chicago:20260130T150000
DTEND;TZID=America/Chicago:20260130T160000
DTSTAMP:20260420T022206
CREATED:20260101T030259Z
LAST-MODIFIED:20260130T043256Z
UID:10002803-1769785200-1769788800@minnehahaseniorliving.com
SUMMARY:Free Bingo with Prizes
DESCRIPTION:
URL:https://minnehahaseniorliving.com/event-calendar/free-bingo-with-prizes-36/
LOCATION:Dining Room
CATEGORIES:ALF
END:VEVENT
BEGIN:VEVENT
DTSTART;TZID=America/Chicago:20260130T160000
DTEND;TZID=America/Chicago:20260130T163000
DTSTAMP:20260420T022206
CREATED:20260101T013316Z
LAST-MODIFIED:20260130T033301Z
UID:10002795-1769788800-1769790600@minnehahaseniorliving.com
SUMMARY:Walking Club
DESCRIPTION:
URL:https://minnehahaseniorliving.com/event-calendar/walking-club-239/
CATEGORIES:Harmony Place,Rose Court
END:VEVENT
END:VCALENDAR