BEGIN:VCALENDAR
VERSION:2.0
PRODID:-//Minnehaha: Senior Living in Minneapolis - ECPv6.13.2.1//NONSGML v1.0//EN
CALSCALE:GREGORIAN
METHOD:PUBLISH
X-ORIGINAL-URL:https://minnehahaseniorliving.com
X-WR-CALDESC:Events for Minnehaha: Senior Living in Minneapolis
REFRESH-INTERVAL;VALUE=DURATION:PT1H
X-Robots-Tag:noindex
X-PUBLISHED-TTL:PT1H
BEGIN:VTIMEZONE
TZID:America/Chicago
BEGIN:DAYLIGHT
TZOFFSETFROM:-0600
TZOFFSETTO:-0500
TZNAME:CDT
DTSTART:20260308T080000
END:DAYLIGHT
BEGIN:STANDARD
TZOFFSETFROM:-0500
TZOFFSETTO:-0600
TZNAME:CST
DTSTART:20261101T070000
END:STANDARD
END:VTIMEZONE
BEGIN:VEVENT
DTSTART;TZID=America/Chicago:20260127T093000
DTEND;TZID=America/Chicago:20260127T100000
DTSTAMP:20260420T022213
CREATED:20251229T013350Z
LAST-MODIFIED:20260127T023303Z
UID:10002753-1769506200-1769508000@minnehahaseniorliving.com
SUMMARY:Gospel Music
DESCRIPTION:
URL:https://minnehahaseniorliving.com/event-calendar/gospel-music-103/
LOCATION:Harmony Place
CATEGORIES:Harmony Place
END:VEVENT
BEGIN:VEVENT
DTSTART;TZID=America/Chicago:20260127T093000
DTEND;TZID=America/Chicago:20260127T100000
DTSTAMP:20260420T022213
CREATED:20251229T014803Z
LAST-MODIFIED:20260127T030257Z
UID:10002758-1769506200-1769508000@minnehahaseniorliving.com
SUMMARY:Gospel Music
DESCRIPTION:
URL:https://minnehahaseniorliving.com/event-calendar/gospel-music-104/
LOCATION:Rose Court
CATEGORIES:Rose Court
END:VEVENT
BEGIN:VEVENT
DTSTART;TZID=America/Chicago:20260127T100000
DTEND;TZID=America/Chicago:20260127T103000
DTSTAMP:20260420T022213
CREATED:20251229T013350Z
LAST-MODIFIED:20260127T023303Z
UID:10002754-1769508000-1769509800@minnehahaseniorliving.com
SUMMARY:Record Listening
DESCRIPTION:
URL:https://minnehahaseniorliving.com/event-calendar/record-listening-4/
LOCATION:Harmony Place
CATEGORIES:Harmony Place
END:VEVENT
BEGIN:VEVENT
DTSTART;TZID=America/Chicago:20260127T100000
DTEND;TZID=America/Chicago:20260127T110000
DTSTAMP:20260420T022213
CREATED:20251229T014803Z
LAST-MODIFIED:20260127T030257Z
UID:10002759-1769508000-1769511600@minnehahaseniorliving.com
SUMMARY:Arts& Crafts: Sponge Painting
DESCRIPTION:
URL:https://minnehahaseniorliving.com/event-calendar/arts-crafts-sponge-painting/
LOCATION:Rose Court
CATEGORIES:Rose Court
END:VEVENT
BEGIN:VEVENT
DTSTART;TZID=America/Chicago:20260127T110000
DTEND;TZID=America/Chicago:20260127T113000
DTSTAMP:20260420T022213
CREATED:20251229T014803Z
LAST-MODIFIED:20260127T030257Z
UID:10002760-1769511600-1769513400@minnehahaseniorliving.com
SUMMARY:Havin' A Ball
DESCRIPTION:
URL:https://minnehahaseniorliving.com/event-calendar/havin-a-ball-8/
LOCATION:Rose Court
CATEGORIES:Rose Court
END:VEVENT
BEGIN:VEVENT
DTSTART;TZID=America/Chicago:20260127T110000
DTEND;TZID=America/Chicago:20260127T120000
DTSTAMP:20260420T022213
CREATED:20251229T024812Z
LAST-MODIFIED:20260127T043257Z
UID:10002761-1769511600-1769515200@minnehahaseniorliving.com
SUMMARY:Pump It up With Lana !
DESCRIPTION:
URL:https://minnehahaseniorliving.com/event-calendar/pump-it-up-with-lana-24/
LOCATION:Activity Room
CATEGORIES:ALF
END:VEVENT
BEGIN:VEVENT
DTSTART;TZID=America/Chicago:20260127T113000
DTEND;TZID=America/Chicago:20260127T120000
DTSTAMP:20260420T022213
CREATED:20251229T013350Z
LAST-MODIFIED:20260127T030257Z
UID:10002755-1769513400-1769515200@minnehahaseniorliving.com
SUMMARY:Daily Chronicles
DESCRIPTION:
URL:https://minnehahaseniorliving.com/event-calendar/daily-chronicles-245/
CATEGORIES:Harmony Place,Rose Court
END:VEVENT
BEGIN:VEVENT
DTSTART;TZID=America/Chicago:20260127T130000
DTEND;TZID=America/Chicago:20260127T140000
DTSTAMP:20260420T022213
CREATED:20251229T024812Z
LAST-MODIFIED:20260127T043257Z
UID:10002762-1769518800-1769522400@minnehahaseniorliving.com
SUMMARY:Maverick's Spark Challenge: Whizzer
DESCRIPTION:
URL:https://minnehahaseniorliving.com/event-calendar/mavericks-spark-challenge-whizzer-2/
LOCATION:Weight Area
CATEGORIES:ALF
END:VEVENT
BEGIN:VEVENT
DTSTART;TZID=America/Chicago:20260127T140000
DTEND;TZID=America/Chicago:20260127T143000
DTSTAMP:20260420T022213
CREATED:20251229T013351Z
LAST-MODIFIED:20260127T023303Z
UID:10002756-1769522400-1769524200@minnehahaseniorliving.com
SUMMARY:Memory Kitchen
DESCRIPTION:Browsing cookbooks and sharing stories about old recipes.
URL:https://minnehahaseniorliving.com/event-calendar/memory-kitchen-19/
LOCATION:Harmony Place
CATEGORIES:Harmony Place
END:VEVENT
BEGIN:VEVENT
DTSTART;TZID=America/Chicago:20260127T140000
DTEND;TZID=America/Chicago:20260127T150000
DTSTAMP:20260420T022213
CREATED:20251229T024812Z
LAST-MODIFIED:20260127T043257Z
UID:10002763-1769522400-1769526000@minnehahaseniorliving.com
SUMMARY:Bible Study with Chaplain Jared
DESCRIPTION:
URL:https://minnehahaseniorliving.com/event-calendar/bible-study-with-chaplain-jared-34/
LOCATION:Activity Room
CATEGORIES:ALF
END:VEVENT
BEGIN:VEVENT
DTSTART;TZID=America/Chicago:20260127T150000
DTEND;TZID=America/Chicago:20260127T160000
DTSTAMP:20260420T022213
CREATED:20251229T024812Z
LAST-MODIFIED:20260127T043257Z
UID:10002764-1769526000-1769529600@minnehahaseniorliving.com
SUMMARY:Theater Club
DESCRIPTION:
URL:https://minnehahaseniorliving.com/event-calendar/theater-club-40/
LOCATION:Sunroom
CATEGORIES:ALF
END:VEVENT
BEGIN:VEVENT
DTSTART;TZID=America/Chicago:20260127T160000
DTEND;TZID=America/Chicago:20260127T163000
DTSTAMP:20260420T022213
CREATED:20251229T013351Z
LAST-MODIFIED:20260127T030257Z
UID:10002757-1769529600-1769531400@minnehahaseniorliving.com
SUMMARY:Walking Club
DESCRIPTION:
URL:https://minnehahaseniorliving.com/event-calendar/walking-club-236/
CATEGORIES:Harmony Place,Rose Court
END:VEVENT
END:VCALENDAR