BEGIN:VCALENDAR
VERSION:2.0
PRODID:-//Minnehaha: Senior Living in Minneapolis - ECPv6.13.2.1//NONSGML v1.0//EN
CALSCALE:GREGORIAN
METHOD:PUBLISH
X-ORIGINAL-URL:https://minnehahaseniorliving.com
X-WR-CALDESC:Events for Minnehaha: Senior Living in Minneapolis
REFRESH-INTERVAL;VALUE=DURATION:PT1H
X-Robots-Tag:noindex
X-PUBLISHED-TTL:PT1H
BEGIN:VTIMEZONE
TZID:America/Chicago
BEGIN:DAYLIGHT
TZOFFSETFROM:-0600
TZOFFSETTO:-0500
TZNAME:CDT
DTSTART:20260308T080000
END:DAYLIGHT
BEGIN:STANDARD
TZOFFSETFROM:-0500
TZOFFSETTO:-0600
TZNAME:CST
DTSTART:20261101T070000
END:STANDARD
END:VTIMEZONE
BEGIN:VEVENT
DTSTART;TZID=America/Chicago:20260111T100000
DTEND;TZID=America/Chicago:20260111T110000
DTSTAMP:20260423T040317
CREATED:20251213T014801Z
LAST-MODIFIED:20260111T034800Z
UID:10002544-1768125600-1768129200@minnehahaseniorliving.com
SUMMARY:Resident Led Worship Service
DESCRIPTION:
URL:https://minnehahaseniorliving.com/event-calendar/resident-led-worship-service-29/
LOCATION:Activity Room
CATEGORIES:ALF
END:VEVENT
BEGIN:VEVENT
DTSTART;TZID=America/Chicago:20260111T101500
DTEND;TZID=America/Chicago:20260111T104500
DTSTAMP:20260423T040317
CREATED:20251213T010328Z
LAST-MODIFIED:20260111T014756Z
UID:10002535-1768126500-1768128300@minnehahaseniorliving.com
SUMMARY:Worship Service
DESCRIPTION:
URL:https://minnehahaseniorliving.com/event-calendar/worship-service-66/
LOCATION:Harmony Place
CATEGORIES:Harmony Place
END:VEVENT
BEGIN:VEVENT
DTSTART;TZID=America/Chicago:20260111T110000
DTEND;TZID=America/Chicago:20260111T113000
DTSTAMP:20260423T040317
CREATED:20251218T014803Z
LAST-MODIFIED:20260111T021805Z
UID:10002622-1768129200-1768131000@minnehahaseniorliving.com
SUMMARY:Storytime
DESCRIPTION:
URL:https://minnehahaseniorliving.com/event-calendar/storytime-31/
LOCATION:Rose Court
CATEGORIES:Rose Court
END:VEVENT
BEGIN:VEVENT
DTSTART;TZID=America/Chicago:20260111T113000
DTEND;TZID=America/Chicago:20260111T120000
DTSTAMP:20260423T040317
CREATED:20251213T010328Z
LAST-MODIFIED:20260111T021805Z
UID:10002536-1768131000-1768132800@minnehahaseniorliving.com
SUMMARY:Daily Chronicles
DESCRIPTION:
URL:https://minnehahaseniorliving.com/event-calendar/daily-chronicles-229/
CATEGORIES:Harmony Place,Rose Court
END:VEVENT
BEGIN:VEVENT
DTSTART;TZID=America/Chicago:20260111T130000
DTEND;TZID=America/Chicago:20260111T133000
DTSTAMP:20260423T040317
CREATED:20251213T010328Z
LAST-MODIFIED:20260111T014756Z
UID:10002537-1768136400-1768138200@minnehahaseniorliving.com
SUMMARY:Bingo!
DESCRIPTION:
URL:https://minnehahaseniorliving.com/event-calendar/bingo-51/
LOCATION:Harmony Place
CATEGORIES:Harmony Place
END:VEVENT
BEGIN:VEVENT
DTSTART;TZID=America/Chicago:20260111T140000
DTEND;TZID=America/Chicago:20260111T143000
DTSTAMP:20260423T040317
CREATED:20251213T014801Z
LAST-MODIFIED:20260111T034800Z
UID:10002545-1768140000-1768141800@minnehahaseniorliving.com
SUMMARY:Book Talk & Tea
DESCRIPTION:
URL:https://minnehahaseniorliving.com/event-calendar/tea-circle-3/
LOCATION:Activity Room
CATEGORIES:ALF
END:VEVENT
BEGIN:VEVENT
DTSTART;TZID=America/Chicago:20260111T150000
DTEND;TZID=America/Chicago:20260111T153000
DTSTAMP:20260423T040317
CREATED:20251213T014801Z
LAST-MODIFIED:20260111T034800Z
UID:10002546-1768143600-1768145400@minnehahaseniorliving.com
SUMMARY:Lobby Games
DESCRIPTION:
URL:https://minnehahaseniorliving.com/event-calendar/lobby-games-32/
LOCATION:Lobby
CATEGORIES:ALF
END:VEVENT
BEGIN:VEVENT
DTSTART;TZID=America/Chicago:20260111T150000
DTEND;TZID=America/Chicago:20260111T153000
DTSTAMP:20260423T040317
CREATED:20251218T014803Z
LAST-MODIFIED:20260111T021805Z
UID:10002623-1768143600-1768145400@minnehahaseniorliving.com
SUMMARY:Bingo
DESCRIPTION:
URL:https://minnehahaseniorliving.com/event-calendar/bingo-54/
LOCATION:Rose Court
CATEGORIES:Rose Court
END:VEVENT
BEGIN:VEVENT
DTSTART;TZID=America/Chicago:20260111T160000
DTEND;TZID=America/Chicago:20260111T163000
DTSTAMP:20260423T040317
CREATED:20251213T010328Z
LAST-MODIFIED:20260111T021805Z
UID:10002538-1768147200-1768149000@minnehahaseniorliving.com
SUMMARY:Walking Club
DESCRIPTION:
URL:https://minnehahaseniorliving.com/event-calendar/walking-club-220/
CATEGORIES:Harmony Place,Rose Court
END:VEVENT
END:VCALENDAR