BEGIN:VCALENDAR
VERSION:2.0
PRODID:-//Minnehaha: Senior Living in Minneapolis - ECPv6.13.2.1//NONSGML v1.0//EN
CALSCALE:GREGORIAN
METHOD:PUBLISH
X-ORIGINAL-URL:https://minnehahaseniorliving.com
X-WR-CALDESC:Events for Minnehaha: Senior Living in Minneapolis
REFRESH-INTERVAL;VALUE=DURATION:PT1H
X-Robots-Tag:noindex
X-PUBLISHED-TTL:PT1H
BEGIN:VTIMEZONE
TZID:America/Chicago
BEGIN:DAYLIGHT
TZOFFSETFROM:-0600
TZOFFSETTO:-0500
TZNAME:CDT
DTSTART:20250309T080000
END:DAYLIGHT
BEGIN:STANDARD
TZOFFSETFROM:-0500
TZOFFSETTO:-0600
TZNAME:CST
DTSTART:20251102T070000
END:STANDARD
END:VTIMEZONE
BEGIN:VEVENT
DTSTART;TZID=America/Chicago:20251205T100000
DTEND;TZID=America/Chicago:20251205T103000
DTSTAMP:20260419T204806
CREATED:20251105T221809Z
LAST-MODIFIED:20251130T010318Z
UID:10002145-1764928800-1764930600@minnehahaseniorliving.com
SUMMARY:Virtual Worship Service
DESCRIPTION:
URL:https://minnehahaseniorliving.com/event-calendar/virtual-worship-service-29/
CATEGORIES:Harmony Place,Rose Court
END:VEVENT
BEGIN:VEVENT
DTSTART;TZID=America/Chicago:20251205T103000
DTEND;TZID=America/Chicago:20251205T110000
DTSTAMP:20260419T204806
CREATED:20251105T221809Z
LAST-MODIFIED:20251130T004811Z
UID:10002146-1764930600-1764932400@minnehahaseniorliving.com
SUMMARY:Poetry Club
DESCRIPTION:
URL:https://minnehahaseniorliving.com/event-calendar/poetry-club-55/
CATEGORIES:Rose Court
END:VEVENT
BEGIN:VEVENT
DTSTART;TZID=America/Chicago:20251205T110000
DTEND;TZID=America/Chicago:20251205T113000
DTSTAMP:20260419T204806
CREATED:20251106T014908Z
LAST-MODIFIED:20251130T010318Z
UID:10002153-1764932400-1764934200@minnehahaseniorliving.com
SUMMARY:Holiday Bag Toss
DESCRIPTION:
URL:https://minnehahaseniorliving.com/event-calendar/poetry-club-56/
LOCATION:Harmony Place
CATEGORIES:Harmony Place
END:VEVENT
BEGIN:VEVENT
DTSTART;TZID=America/Chicago:20251205T110000
DTEND;TZID=America/Chicago:20251205T120000
DTSTAMP:20260419T204806
CREATED:20251119T013308Z
LAST-MODIFIED:20251130T013317Z
UID:10002266-1764932400-1764936000@minnehahaseniorliving.com
SUMMARY:Exercise
DESCRIPTION:
URL:https://minnehahaseniorliving.com/event-calendar/exercise-22/
CATEGORIES:ALF
END:VEVENT
BEGIN:VEVENT
DTSTART;TZID=America/Chicago:20251205T113000
DTEND;TZID=America/Chicago:20251205T120000
DTSTAMP:20260419T204806
CREATED:20251105T221809Z
LAST-MODIFIED:20251130T010318Z
UID:10002147-1764934200-1764936000@minnehahaseniorliving.com
SUMMARY:Daily Chronicles
DESCRIPTION:
URL:https://minnehahaseniorliving.com/event-calendar/daily-chronicles-192/
CATEGORIES:Harmony Place,Rose Court
END:VEVENT
BEGIN:VEVENT
DTSTART;TZID=America/Chicago:20251205T130000
DTEND;TZID=America/Chicago:20251205T133000
DTSTAMP:20260419T204806
CREATED:20251106T013300Z
LAST-MODIFIED:20251130T013317Z
UID:10002150-1764939600-1764941400@minnehahaseniorliving.com
SUMMARY:The Really Big Show
DESCRIPTION:
URL:https://minnehahaseniorliving.com/event-calendar/the-really-big-show-16/
LOCATION:Lodge
CATEGORIES:ALF
END:VEVENT
BEGIN:VEVENT
DTSTART;TZID=America/Chicago:20251205T133000
DTEND;TZID=America/Chicago:20251205T140000
DTSTAMP:20260419T204806
CREATED:20251106T013300Z
LAST-MODIFIED:20251130T013317Z
UID:10002151-1764941400-1764943200@minnehahaseniorliving.com
SUMMARY:Worship Service with Kurt
DESCRIPTION:
URL:https://minnehahaseniorliving.com/event-calendar/worship-service-with-kurt-28/
LOCATION:Activity Room
CATEGORIES:ALF
END:VEVENT
BEGIN:VEVENT
DTSTART;TZID=America/Chicago:20251205T140000
DTEND;TZID=America/Chicago:20251205T143000
DTSTAMP:20260419T204806
CREATED:20251106T014909Z
LAST-MODIFIED:20251130T010318Z
UID:10002154-1764943200-1764945000@minnehahaseniorliving.com
SUMMARY:Table Games
DESCRIPTION:
URL:https://minnehahaseniorliving.com/event-calendar/table-games-55/
CATEGORIES:Harmony Place
END:VEVENT
BEGIN:VEVENT
DTSTART;TZID=America/Chicago:20251205T143000
DTEND;TZID=America/Chicago:20251205T150000
DTSTAMP:20260419T204806
CREATED:20251105T221810Z
LAST-MODIFIED:20251130T004811Z
UID:10002148-1764945000-1764946800@minnehahaseniorliving.com
SUMMARY:Friday Dance Party!
DESCRIPTION:
URL:https://minnehahaseniorliving.com/event-calendar/friday-dance-party-28/
CATEGORIES:Rose Court
END:VEVENT
BEGIN:VEVENT
DTSTART;TZID=America/Chicago:20251205T150000
DTEND;TZID=America/Chicago:20251205T160000
DTSTAMP:20260419T204806
CREATED:20251106T013301Z
LAST-MODIFIED:20251130T013317Z
UID:10002152-1764946800-1764950400@minnehahaseniorliving.com
SUMMARY:Free Bingo with Prizes
DESCRIPTION:
URL:https://minnehahaseniorliving.com/event-calendar/free-bingo-with-prizes-28/
LOCATION:Dining Room
CATEGORIES:ALF
END:VEVENT
BEGIN:VEVENT
DTSTART;TZID=America/Chicago:20251205T160000
DTEND;TZID=America/Chicago:20251205T163000
DTSTAMP:20260419T204806
CREATED:20251105T221810Z
LAST-MODIFIED:20251130T010319Z
UID:10002149-1764950400-1764952200@minnehahaseniorliving.com
SUMMARY:Walking Club
DESCRIPTION:
URL:https://minnehahaseniorliving.com/event-calendar/walking-club-183/
CATEGORIES:Harmony Place,Rose Court
END:VEVENT
END:VCALENDAR