BEGIN:VCALENDAR
VERSION:2.0
PRODID:-//Minnehaha: Senior Living in Minneapolis - ECPv6.13.2.1//NONSGML v1.0//EN
CALSCALE:GREGORIAN
METHOD:PUBLISH
X-ORIGINAL-URL:https://minnehahaseniorliving.com
X-WR-CALDESC:Events for Minnehaha: Senior Living in Minneapolis
REFRESH-INTERVAL;VALUE=DURATION:PT1H
X-Robots-Tag:noindex
X-PUBLISHED-TTL:PT1H
BEGIN:VTIMEZONE
TZID:America/Chicago
BEGIN:DAYLIGHT
TZOFFSETFROM:-0600
TZOFFSETTO:-0500
TZNAME:CDT
DTSTART:20250309T080000
END:DAYLIGHT
BEGIN:STANDARD
TZOFFSETFROM:-0500
TZOFFSETTO:-0600
TZNAME:CST
DTSTART:20251102T070000
END:STANDARD
END:VTIMEZONE
BEGIN:VEVENT
DTSTART;TZID=America/Chicago:20250921T093000
DTEND;TZID=America/Chicago:20250921T103000
DTSTAMP:20260422T071523
CREATED:20250822T220302Z
LAST-MODIFIED:20250901T223312Z
UID:10001332-1758447000-1758450600@minnehahaseniorliving.com
SUMMARY:Coffee and Chit Chat
DESCRIPTION:
URL:https://minnehahaseniorliving.com/event-calendar/coffee-and-chit-chat-34/
LOCATION:Lodge
CATEGORIES:ALF
END:VEVENT
BEGIN:VEVENT
DTSTART;TZID=America/Chicago:20250921T100000
DTEND;TZID=America/Chicago:20250921T110000
DTSTAMP:20260422T071523
CREATED:20250902T223312Z
LAST-MODIFIED:20250920T224758Z
UID:10001454-1758448800-1758452400@minnehahaseniorliving.com
SUMMARY:Resident Led Worship Service
DESCRIPTION:
URL:https://minnehahaseniorliving.com/event-calendar/resident-led-worship-service-13/
LOCATION:Activity Room
CATEGORIES:ALF
END:VEVENT
BEGIN:VEVENT
DTSTART;TZID=America/Chicago:20250921T101500
DTEND;TZID=America/Chicago:20250921T104500
DTSTAMP:20260422T071523
CREATED:20250822T233302Z
LAST-MODIFIED:20250921T000318Z
UID:10001335-1758449700-1758451500@minnehahaseniorliving.com
SUMMARY:Worship Service
DESCRIPTION:
URL:https://minnehahaseniorliving.com/event-calendar/worship-service-34/
LOCATION:Harmony Place
CATEGORIES:Harmony Place
END:VEVENT
BEGIN:VEVENT
DTSTART;TZID=America/Chicago:20250921T110000
DTEND;TZID=America/Chicago:20250921T113000
DTSTAMP:20260422T071523
CREATED:20250822T203305Z
LAST-MODIFIED:20250920T214758Z
UID:10001328-1758452400-1758454200@minnehahaseniorliving.com
SUMMARY:Dance Church
DESCRIPTION:
URL:https://minnehahaseniorliving.com/event-calendar/dance-church-3/
LOCATION:Rose Court
CATEGORIES:Rose Court
END:VEVENT
BEGIN:VEVENT
DTSTART;TZID=America/Chicago:20250921T113000
DTEND;TZID=America/Chicago:20250921T120000
DTSTAMP:20260422T071523
CREATED:20250822T203305Z
LAST-MODIFIED:20250921T000318Z
UID:10001329-1758454200-1758456000@minnehahaseniorliving.com
SUMMARY:Daily Chronicles
DESCRIPTION:
URL:https://minnehahaseniorliving.com/event-calendar/daily-chronicles-117/
CATEGORIES:Harmony Place,Rose Court
END:VEVENT
BEGIN:VEVENT
DTSTART;TZID=America/Chicago:20250921T130000
DTEND;TZID=America/Chicago:20250921T133000
DTSTAMP:20260422T071523
CREATED:20250822T233302Z
LAST-MODIFIED:20250921T000318Z
UID:10001336-1758459600-1758461400@minnehahaseniorliving.com
SUMMARY:Outdoor Patio
DESCRIPTION:
URL:https://minnehahaseniorliving.com/event-calendar/outdoor-patio-52/
LOCATION:Harmony Place
CATEGORIES:Harmony Place
END:VEVENT
BEGIN:VEVENT
DTSTART;TZID=America/Chicago:20250921T140000
DTEND;TZID=America/Chicago:20250921T143000
DTSTAMP:20260422T071523
CREATED:20250822T220302Z
LAST-MODIFIED:20250920T224758Z
UID:10001333-1758463200-1758465000@minnehahaseniorliving.com
SUMMARY:Dream Tea
DESCRIPTION:
URL:https://minnehahaseniorliving.com/event-calendar/dream-tea-12/
LOCATION:Activity Room
CATEGORIES:ALF
END:VEVENT
BEGIN:VEVENT
DTSTART;TZID=America/Chicago:20250921T150000
DTEND;TZID=America/Chicago:20250921T153000
DTSTAMP:20260422T071523
CREATED:20250822T203305Z
LAST-MODIFIED:20250920T214758Z
UID:10001330-1758466800-1758468600@minnehahaseniorliving.com
SUMMARY:Nature Coloring
DESCRIPTION:
URL:https://minnehahaseniorliving.com/event-calendar/nature-coloring-3/
LOCATION:Rose Court
CATEGORIES:Rose Court
END:VEVENT
BEGIN:VEVENT
DTSTART;TZID=America/Chicago:20250921T150000
DTEND;TZID=America/Chicago:20250921T153000
DTSTAMP:20260422T071523
CREATED:20250822T220302Z
LAST-MODIFIED:20250920T224758Z
UID:10001334-1758466800-1758468600@minnehahaseniorliving.com
SUMMARY:Lobby Games
DESCRIPTION:
URL:https://minnehahaseniorliving.com/event-calendar/lobby-games-17/
LOCATION:Lobby
CATEGORIES:ALF
END:VEVENT
BEGIN:VEVENT
DTSTART;TZID=America/Chicago:20250921T160000
DTEND;TZID=America/Chicago:20250921T163000
DTSTAMP:20260422T071523
CREATED:20250822T233302Z
LAST-MODIFIED:20250921T000318Z
UID:10001337-1758470400-1758472200@minnehahaseniorliving.com
SUMMARY:Walking Club
DESCRIPTION:
URL:https://minnehahaseniorliving.com/event-calendar/walking-club-108/
CATEGORIES:Harmony Place,Rose Court
END:VEVENT
END:VCALENDAR