BEGIN:VCALENDAR
VERSION:2.0
PRODID:-//Minnehaha: Senior Living in Minneapolis - ECPv6.13.2.1//NONSGML v1.0//EN
CALSCALE:GREGORIAN
METHOD:PUBLISH
X-WR-CALNAME:Minnehaha: Senior Living in Minneapolis
X-ORIGINAL-URL:https://minnehahaseniorliving.com
X-WR-CALDESC:Events for Minnehaha: Senior Living in Minneapolis
REFRESH-INTERVAL;VALUE=DURATION:PT1H
X-Robots-Tag:noindex
X-PUBLISHED-TTL:PT1H
BEGIN:VTIMEZONE
TZID:America/Chicago
BEGIN:DAYLIGHT
TZOFFSETFROM:-0600
TZOFFSETTO:-0500
TZNAME:CDT
DTSTART:20250309T080000
END:DAYLIGHT
BEGIN:STANDARD
TZOFFSETFROM:-0500
TZOFFSETTO:-0600
TZNAME:CST
DTSTART:20251102T070000
END:STANDARD
END:VTIMEZONE
BEGIN:VEVENT
DTSTART;TZID=America/Chicago:20250919T094500
DTEND;TZID=America/Chicago:20250919T113000
DTSTAMP:20260422T071201
CREATED:20250820T220354Z
LAST-MODIFIED:20250918T224757Z
UID:10001296-1758275100-1758281400@minnehahaseniorliving.com
SUMMARY:Cub Foods Shopping Outing
DESCRIPTION:
URL:https://minnehahaseniorliving.com/event-calendar/cub-foods-shopping-outing-5/
CATEGORIES:ALF
END:VEVENT
BEGIN:VEVENT
DTSTART;TZID=America/Chicago:20250919T100000
DTEND;TZID=America/Chicago:20250919T103000
DTSTAMP:20260422T071201
CREATED:20250820T203320Z
LAST-MODIFIED:20250919T000257Z
UID:10001283-1758276000-1758277800@minnehahaseniorliving.com
SUMMARY:Virtual Worship Service
DESCRIPTION:
URL:https://minnehahaseniorliving.com/event-calendar/virtual-worship-service-18/
CATEGORIES:Harmony Place,Rose Court
END:VEVENT
BEGIN:VEVENT
DTSTART;TZID=America/Chicago:20250919T103000
DTEND;TZID=America/Chicago:20250919T110000
DTSTAMP:20260422T071201
CREATED:20250820T203320Z
LAST-MODIFIED:20250918T214756Z
UID:10001284-1758277800-1758279600@minnehahaseniorliving.com
SUMMARY:Poetry Club
DESCRIPTION:
URL:https://minnehahaseniorliving.com/event-calendar/poetry-club-33/
CATEGORIES:Rose Court
END:VEVENT
BEGIN:VEVENT
DTSTART;TZID=America/Chicago:20250919T110000
DTEND;TZID=America/Chicago:20250919T113000
DTSTAMP:20260422T071201
CREATED:20250820T231813Z
LAST-MODIFIED:20250919T000257Z
UID:10001308-1758279600-1758281400@minnehahaseniorliving.com
SUMMARY:Poetry Club
DESCRIPTION:
URL:https://minnehahaseniorliving.com/event-calendar/poetry-club-34/
CATEGORIES:Harmony Place
END:VEVENT
BEGIN:VEVENT
DTSTART;TZID=America/Chicago:20250919T113000
DTEND;TZID=America/Chicago:20250919T120000
DTSTAMP:20260422T071201
CREATED:20250820T203320Z
LAST-MODIFIED:20250919T000257Z
UID:10001285-1758281400-1758283200@minnehahaseniorliving.com
SUMMARY:Daily Chronicles
DESCRIPTION:
URL:https://minnehahaseniorliving.com/event-calendar/daily-chronicles-115/
CATEGORIES:Harmony Place,Rose Court
END:VEVENT
BEGIN:VEVENT
DTSTART;TZID=America/Chicago:20250919T133000
DTEND;TZID=America/Chicago:20250919T140000
DTSTAMP:20260422T071201
CREATED:20250820T220354Z
LAST-MODIFIED:20250918T224757Z
UID:10001297-1758288600-1758290400@minnehahaseniorliving.com
SUMMARY:Worship Service with Kurt
DESCRIPTION:
URL:https://minnehahaseniorliving.com/event-calendar/worship-service-with-kurt-17/
LOCATION:Activity Room
CATEGORIES:ALF
END:VEVENT
BEGIN:VEVENT
DTSTART;TZID=America/Chicago:20250919T140000
DTEND;TZID=America/Chicago:20250919T143000
DTSTAMP:20260422T071201
CREATED:20250820T231813Z
LAST-MODIFIED:20250919T000257Z
UID:10001309-1758290400-1758292200@minnehahaseniorliving.com
SUMMARY:Table Games
DESCRIPTION:
URL:https://minnehahaseniorliving.com/event-calendar/table-games-33/
CATEGORIES:Harmony Place
END:VEVENT
BEGIN:VEVENT
DTSTART;TZID=America/Chicago:20250919T140000
DTEND;TZID=America/Chicago:20250919T150000
DTSTAMP:20260422T071201
CREATED:20250909T223256Z
LAST-MODIFIED:20250918T224757Z
UID:10001505-1758290400-1758294000@minnehahaseniorliving.com
SUMMARY:Gospel Music with David
DESCRIPTION:
URL:https://minnehahaseniorliving.com/event-calendar/gospel-music-with-david-5/
LOCATION:Dining Room
CATEGORIES:ALF
END:VEVENT
BEGIN:VEVENT
DTSTART;TZID=America/Chicago:20250919T143000
DTEND;TZID=America/Chicago:20250919T150000
DTSTAMP:20260422T071201
CREATED:20250820T203321Z
LAST-MODIFIED:20250918T214756Z
UID:10001286-1758292200-1758294000@minnehahaseniorliving.com
SUMMARY:Friday Dance Party!
DESCRIPTION:
URL:https://minnehahaseniorliving.com/event-calendar/friday-dance-party-17/
CATEGORIES:Rose Court
END:VEVENT
BEGIN:VEVENT
DTSTART;TZID=America/Chicago:20250919T150000
DTEND;TZID=America/Chicago:20250919T160000
DTSTAMP:20260422T071201
CREATED:20250820T220354Z
LAST-MODIFIED:20250918T224757Z
UID:10001298-1758294000-1758297600@minnehahaseniorliving.com
SUMMARY:Free Bingo with Prizes
DESCRIPTION:
URL:https://minnehahaseniorliving.com/event-calendar/free-bingo-with-prizes-17/
LOCATION:Dining Room
CATEGORIES:ALF
END:VEVENT
BEGIN:VEVENT
DTSTART;TZID=America/Chicago:20250919T160000
DTEND;TZID=America/Chicago:20250919T163000
DTSTAMP:20260422T071201
CREATED:20250820T231813Z
LAST-MODIFIED:20250919T000257Z
UID:10001310-1758297600-1758299400@minnehahaseniorliving.com
SUMMARY:Walking Club
DESCRIPTION:
URL:https://minnehahaseniorliving.com/event-calendar/walking-club-106/
CATEGORIES:Harmony Place,Rose Court
END:VEVENT
BEGIN:VEVENT
DTSTART;TZID=America/Chicago:20250919T180000
DTEND;TZID=America/Chicago:20250919T190000
DTSTAMP:20260422T071201
CREATED:20250826T220259Z
LAST-MODIFIED:20250919T224803Z
UID:10001387-1758304800-1758308400@minnehahaseniorliving.com
SUMMARY:The Price is Right
DESCRIPTION:
URL:https://minnehahaseniorliving.com/event-calendar/game-night-with-melissa-3/
LOCATION:Activity Room
CATEGORIES:ALF
END:VEVENT
END:VCALENDAR