BEGIN:VCALENDAR
VERSION:2.0
PRODID:-//Minnehaha: Senior Living in Minneapolis - ECPv6.13.2.1//NONSGML v1.0//EN
CALSCALE:GREGORIAN
METHOD:PUBLISH
X-WR-CALNAME:Minnehaha: Senior Living in Minneapolis
X-ORIGINAL-URL:https://minnehahaseniorliving.com
X-WR-CALDESC:Events for Minnehaha: Senior Living in Minneapolis
REFRESH-INTERVAL;VALUE=DURATION:PT1H
X-Robots-Tag:noindex
X-PUBLISHED-TTL:PT1H
BEGIN:VTIMEZONE
TZID:America/Chicago
BEGIN:DAYLIGHT
TZOFFSETFROM:-0600
TZOFFSETTO:-0500
TZNAME:CDT
DTSTART:20250309T080000
END:DAYLIGHT
BEGIN:STANDARD
TZOFFSETFROM:-0500
TZOFFSETTO:-0600
TZNAME:CST
DTSTART:20251102T070000
END:STANDARD
END:VTIMEZONE
BEGIN:VEVENT
DTSTART;TZID=America/Chicago:20250917T093000
DTEND;TZID=America/Chicago:20250917T100000
DTSTAMP:20260422T084823
CREATED:20250818T203308Z
LAST-MODIFIED:20250916T213324Z
UID:10001264-1758101400-1758103200@minnehahaseniorliving.com
SUMMARY:Devotions
DESCRIPTION:
URL:https://minnehahaseniorliving.com/event-calendar/devotions-17/
LOCATION:Rose Court
CATEGORIES:Rose Court
END:VEVENT
BEGIN:VEVENT
DTSTART;TZID=America/Chicago:20250917T093000
DTEND;TZID=America/Chicago:20250917T100000
DTSTAMP:20260422T084823
CREATED:20250818T231801Z
LAST-MODIFIED:20250916T234837Z
UID:10001270-1758101400-1758103200@minnehahaseniorliving.com
SUMMARY:Worship Service
DESCRIPTION:
URL:https://minnehahaseniorliving.com/event-calendar/worship-service-33/
LOCATION:Harmony Place
CATEGORIES:Harmony Place
END:VEVENT
BEGIN:VEVENT
DTSTART;TZID=America/Chicago:20250917T100000
DTEND;TZID=America/Chicago:20250917T103000
DTSTAMP:20260422T084823
CREATED:20250820T231812Z
LAST-MODIFIED:20250916T234837Z
UID:10001307-1758103200-1758105000@minnehahaseniorliving.com
SUMMARY:Gardens & Pollinators
DESCRIPTION:
URL:https://minnehahaseniorliving.com/event-calendar/gardens-pollinators-3/
LOCATION:Harmony Place
CATEGORIES:Harmony Place
END:VEVENT
BEGIN:VEVENT
DTSTART;TZID=America/Chicago:20250917T110000
DTEND;TZID=America/Chicago:20250917T113000
DTSTAMP:20260422T084823
CREATED:20250821T203326Z
LAST-MODIFIED:20250916T213324Z
UID:10001323-1758106800-1758108600@minnehahaseniorliving.com
SUMMARY:Bingo
DESCRIPTION:
URL:https://minnehahaseniorliving.com/event-calendar/bingo-12/
LOCATION:Rose Court
CATEGORIES:Rose Court
END:VEVENT
BEGIN:VEVENT
DTSTART;TZID=America/Chicago:20250917T113000
DTEND;TZID=America/Chicago:20250917T120000
DTSTAMP:20260422T084823
CREATED:20250818T203308Z
LAST-MODIFIED:20250916T234837Z
UID:10001265-1758108600-1758110400@minnehahaseniorliving.com
SUMMARY:Daily Chronicles
DESCRIPTION:
URL:https://minnehahaseniorliving.com/event-calendar/daily-chronicles-113/
CATEGORIES:Harmony Place,Rose Court
END:VEVENT
BEGIN:VEVENT
DTSTART;TZID=America/Chicago:20250917T130000
DTEND;TZID=America/Chicago:20250917T133000
DTSTAMP:20260422T084823
CREATED:20250820T220353Z
LAST-MODIFIED:20250916T224758Z
UID:10001294-1758114000-1758115800@minnehahaseniorliving.com
SUMMARY:Minnehaha Film Society
DESCRIPTION:Meeting of the Minnehaha Film Society convenes to discuss all things cinema as well as choosing the upcoming movie to be played later that day.
URL:https://minnehahaseniorliving.com/event-calendar/minnehaha-film-society-7/
LOCATION:Longfellow Library
CATEGORIES:ALF
END:VEVENT
BEGIN:VEVENT
DTSTART;TZID=America/Chicago:20250917T134500
DTEND;TZID=America/Chicago:20250917T141500
DTSTAMP:20260422T084823
CREATED:20250818T231801Z
LAST-MODIFIED:20250916T234837Z
UID:10001271-1758116700-1758118500@minnehahaseniorliving.com
SUMMARY:Outdoor Patio
DESCRIPTION:
URL:https://minnehahaseniorliving.com/event-calendar/outdoor-patio-48/
LOCATION:Harmony Place
CATEGORIES:Harmony Place
END:VEVENT
BEGIN:VEVENT
DTSTART;TZID=America/Chicago:20250917T140000
DTEND;TZID=America/Chicago:20250917T150000
DTSTAMP:20260422T084823
CREATED:20250818T220314Z
LAST-MODIFIED:20250916T224758Z
UID:10001268-1758117600-1758121200@minnehahaseniorliving.com
SUMMARY:The Writer's Club
DESCRIPTION:
URL:https://minnehahaseniorliving.com/event-calendar/the-writers-club-16/
LOCATION:Longfellow Library
CATEGORIES:ALF
END:VEVENT
BEGIN:VEVENT
DTSTART;TZID=America/Chicago:20250917T143000
DTEND;TZID=America/Chicago:20250917T150000
DTSTAMP:20260422T084823
CREATED:20250818T203308Z
LAST-MODIFIED:20250916T213324Z
UID:10001266-1758119400-1758121200@minnehahaseniorliving.com
SUMMARY:Outdoor Patio
DESCRIPTION:
URL:https://minnehahaseniorliving.com/event-calendar/outdoor-patio-47/
LOCATION:Rose Court
CATEGORIES:Rose Court
END:VEVENT
BEGIN:VEVENT
DTSTART;TZID=America/Chicago:20250917T150000
DTEND;TZID=America/Chicago:20250917T170000
DTSTAMP:20260422T084823
CREATED:20250818T220314Z
LAST-MODIFIED:20250916T224758Z
UID:10001269-1758121200-1758128400@minnehahaseniorliving.com
SUMMARY:Popcorn and A Movie
DESCRIPTION:
URL:https://minnehahaseniorliving.com/event-calendar/popcorn-and-a-movie-9/
LOCATION:Lodge
CATEGORIES:ALF
END:VEVENT
BEGIN:VEVENT
DTSTART;TZID=America/Chicago:20250917T153000
DTEND;TZID=America/Chicago:20250917T160000
DTSTAMP:20260422T084823
CREATED:20250818T231801Z
LAST-MODIFIED:20250916T234837Z
UID:10001272-1758123000-1758124800@minnehahaseniorliving.com
SUMMARY:Sing Along
DESCRIPTION:
URL:https://minnehahaseniorliving.com/event-calendar/sing-along-31/
LOCATION:Harmony Place
CATEGORIES:Harmony Place
END:VEVENT
BEGIN:VEVENT
DTSTART;TZID=America/Chicago:20250917T160000
DTEND;TZID=America/Chicago:20250917T163000
DTSTAMP:20260422T084823
CREATED:20250818T231801Z
LAST-MODIFIED:20250916T234837Z
UID:10001273-1758124800-1758126600@minnehahaseniorliving.com
SUMMARY:Walking Club
DESCRIPTION:
URL:https://minnehahaseniorliving.com/event-calendar/walking-club-104/
CATEGORIES:Harmony Place,Rose Court
END:VEVENT
END:VCALENDAR