BEGIN:VCALENDAR
VERSION:2.0
PRODID:-//Minnehaha: Senior Living in Minneapolis - ECPv6.13.2.1//NONSGML v1.0//EN
CALSCALE:GREGORIAN
METHOD:PUBLISH
X-ORIGINAL-URL:https://minnehahaseniorliving.com
X-WR-CALDESC:Events for Minnehaha: Senior Living in Minneapolis
REFRESH-INTERVAL;VALUE=DURATION:PT1H
X-Robots-Tag:noindex
X-PUBLISHED-TTL:PT1H
BEGIN:VTIMEZONE
TZID:America/Chicago
BEGIN:DAYLIGHT
TZOFFSETFROM:-0600
TZOFFSETTO:-0500
TZNAME:CDT
DTSTART:20250309T080000
END:DAYLIGHT
BEGIN:STANDARD
TZOFFSETFROM:-0500
TZOFFSETTO:-0600
TZNAME:CST
DTSTART:20251102T070000
END:STANDARD
END:VTIMEZONE
BEGIN:VEVENT
DTSTART;TZID=America/Chicago:20250916T093000
DTEND;TZID=America/Chicago:20250916T100000
DTSTAMP:20260422T085720
CREATED:20250817T203407Z
LAST-MODIFIED:20250915T213300Z
UID:10001250-1758015000-1758016800@minnehahaseniorliving.com
SUMMARY:Gospel Music
DESCRIPTION:
URL:https://minnehahaseniorliving.com/event-calendar/gospel-music-42/
LOCATION:Rose Court
CATEGORIES:Rose Court
END:VEVENT
BEGIN:VEVENT
DTSTART;TZID=America/Chicago:20250916T093000
DTEND;TZID=America/Chicago:20250916T100000
DTSTAMP:20260422T085720
CREATED:20250817T231759Z
LAST-MODIFIED:20250915T234758Z
UID:10001259-1758015000-1758016800@minnehahaseniorliving.com
SUMMARY:Gospel Music
DESCRIPTION:
URL:https://minnehahaseniorliving.com/event-calendar/gospel-music-43/
LOCATION:Harmony Place
CATEGORIES:Harmony Place
END:VEVENT
BEGIN:VEVENT
DTSTART;TZID=America/Chicago:20250916T100000
DTEND;TZID=America/Chicago:20250916T103000
DTSTAMP:20260422T085720
CREATED:20250817T203407Z
LAST-MODIFIED:20250915T213300Z
UID:10001251-1758016800-1758018600@minnehahaseniorliving.com
SUMMARY:Puzzle Time
DESCRIPTION:
URL:https://minnehahaseniorliving.com/event-calendar/puzzle-time-32/
CATEGORIES:Rose Court
END:VEVENT
BEGIN:VEVENT
DTSTART;TZID=America/Chicago:20250916T100000
DTEND;TZID=America/Chicago:20250916T103000
DTSTAMP:20260422T085720
CREATED:20250817T231759Z
LAST-MODIFIED:20250915T234759Z
UID:10001260-1758016800-1758018600@minnehahaseniorliving.com
SUMMARY:Classical Flowers
DESCRIPTION:Balloon volleyball played to uplifting classical music and scenes of beautiful flowers
URL:https://minnehahaseniorliving.com/event-calendar/balloon-volleyball-40/
LOCATION:Harmony Place
CATEGORIES:Harmony Place
END:VEVENT
BEGIN:VEVENT
DTSTART;TZID=America/Chicago:20250916T110000
DTEND;TZID=America/Chicago:20250916T113000
DTSTAMP:20260422T085720
CREATED:20250817T203407Z
LAST-MODIFIED:20250915T213300Z
UID:10001252-1758020400-1758022200@minnehahaseniorliving.com
SUMMARY:Chair Exercises
DESCRIPTION:
URL:https://minnehahaseniorliving.com/event-calendar/exercise-16/
LOCATION:Rose Court
CATEGORIES:Rose Court
END:VEVENT
BEGIN:VEVENT
DTSTART;TZID=America/Chicago:20250916T110000
DTEND;TZID=America/Chicago:20250916T113000
DTSTAMP:20260422T085720
CREATED:20250817T231759Z
LAST-MODIFIED:20250915T234759Z
UID:10001261-1758020400-1758022200@minnehahaseniorliving.com
SUMMARY:Chair Exercises
DESCRIPTION:
URL:https://minnehahaseniorliving.com/event-calendar/chair-exercises-17/
LOCATION:Harmony Place
CATEGORIES:Harmony Place
END:VEVENT
BEGIN:VEVENT
DTSTART;TZID=America/Chicago:20250916T113000
DTEND;TZID=America/Chicago:20250916T120000
DTSTAMP:20260422T085720
CREATED:20250817T203407Z
LAST-MODIFIED:20250915T234759Z
UID:10001253-1758022200-1758024000@minnehahaseniorliving.com
SUMMARY:Daily Chronicles
DESCRIPTION:
URL:https://minnehahaseniorliving.com/event-calendar/daily-chronicles-112/
CATEGORIES:Harmony Place,Rose Court
END:VEVENT
BEGIN:VEVENT
DTSTART;TZID=America/Chicago:20250916T130000
DTEND;TZID=America/Chicago:20250916T133000
DTSTAMP:20260422T085720
CREATED:20250817T220300Z
LAST-MODIFIED:20250915T224757Z
UID:10001257-1758027600-1758029400@minnehahaseniorliving.com
SUMMARY:Maverick's Spark Performance Committee Meeting
DESCRIPTION:
URL:https://minnehahaseniorliving.com/event-calendar/mavericks-spark-performance-committee-meeting/
LOCATION:Lodge
CATEGORIES:ALF
END:VEVENT
BEGIN:VEVENT
DTSTART;TZID=America/Chicago:20250916T133000
DTEND;TZID=America/Chicago:20250916T140000
DTSTAMP:20260422T085720
CREATED:20250817T203407Z
LAST-MODIFIED:20250915T213300Z
UID:10001254-1758029400-1758031200@minnehahaseniorliving.com
SUMMARY:Ball Toss
DESCRIPTION:
URL:https://minnehahaseniorliving.com/event-calendar/ball-toss-16/
CATEGORIES:Rose Court
END:VEVENT
BEGIN:VEVENT
DTSTART;TZID=America/Chicago:20250916T140000
DTEND;TZID=America/Chicago:20250916T143000
DTSTAMP:20260422T085720
CREATED:20250817T231759Z
LAST-MODIFIED:20250915T234759Z
UID:10001262-1758031200-1758033000@minnehahaseniorliving.com
SUMMARY:Memory Kitchen
DESCRIPTION:Browsing cookbooks and sharing stories about old recipes.
URL:https://minnehahaseniorliving.com/event-calendar/cookbooks-15/
LOCATION:Harmony Place
CATEGORIES:Harmony Place
END:VEVENT
BEGIN:VEVENT
DTSTART;TZID=America/Chicago:20250916T140000
DTEND;TZID=America/Chicago:20250916T150000
DTSTAMP:20260422T085720
CREATED:20250817T220300Z
LAST-MODIFIED:20250915T224757Z
UID:10001258-1758031200-1758034800@minnehahaseniorliving.com
SUMMARY:Bible Study with Chaplain Jared
DESCRIPTION:
URL:https://minnehahaseniorliving.com/event-calendar/bible-study-with-chaplain-jared-16/
LOCATION:Activity Room
CATEGORIES:ALF
END:VEVENT
BEGIN:VEVENT
DTSTART;TZID=America/Chicago:20250916T150000
DTEND;TZID=America/Chicago:20250916T153000
DTSTAMP:20260422T085720
CREATED:20250817T203407Z
LAST-MODIFIED:20250915T213300Z
UID:10001255-1758034800-1758036600@minnehahaseniorliving.com
SUMMARY:Cookbooks
DESCRIPTION:
URL:https://minnehahaseniorliving.com/event-calendar/cookbooks-14/
LOCATION:Rose Court
CATEGORIES:Rose Court
END:VEVENT
BEGIN:VEVENT
DTSTART;TZID=America/Chicago:20250916T150000
DTEND;TZID=America/Chicago:20250916T160000
DTSTAMP:20260422T085720
CREATED:20250820T220353Z
LAST-MODIFIED:20250915T224757Z
UID:10001293-1758034800-1758038400@minnehahaseniorliving.com
SUMMARY:Theater Club
DESCRIPTION:
URL:https://minnehahaseniorliving.com/event-calendar/theater-club-17/
LOCATION:Sunroom
CATEGORIES:ALF
END:VEVENT
BEGIN:VEVENT
DTSTART;TZID=America/Chicago:20250916T160000
DTEND;TZID=America/Chicago:20250916T163000
DTSTAMP:20260422T085720
CREATED:20250817T231759Z
LAST-MODIFIED:20250915T234759Z
UID:10001263-1758038400-1758040200@minnehahaseniorliving.com
SUMMARY:Walking Club
DESCRIPTION:
URL:https://minnehahaseniorliving.com/event-calendar/walking-club-103/
CATEGORIES:Harmony Place,Rose Court
END:VEVENT
BEGIN:VEVENT
DTSTART;TZID=America/Chicago:20250916T180000
DTEND;TZID=America/Chicago:20250916T190000
DTSTAMP:20260422T085720
CREATED:20250826T220259Z
LAST-MODIFIED:20250916T224758Z
UID:10001386-1758045600-1758049200@minnehahaseniorliving.com
SUMMARY:Paint Night
DESCRIPTION:
URL:https://minnehahaseniorliving.com/event-calendar/paint-night-3/
LOCATION:Activity Room
CATEGORIES:ALF
END:VEVENT
END:VCALENDAR