BEGIN:VCALENDAR
VERSION:2.0
PRODID:-//Minnehaha: Senior Living in Minneapolis - ECPv6.13.2.1//NONSGML v1.0//EN
CALSCALE:GREGORIAN
METHOD:PUBLISH
X-WR-CALNAME:Minnehaha: Senior Living in Minneapolis
X-ORIGINAL-URL:https://minnehahaseniorliving.com
X-WR-CALDESC:Events for Minnehaha: Senior Living in Minneapolis
REFRESH-INTERVAL;VALUE=DURATION:PT1H
X-Robots-Tag:noindex
X-PUBLISHED-TTL:PT1H
BEGIN:VTIMEZONE
TZID:America/Chicago
BEGIN:DAYLIGHT
TZOFFSETFROM:-0600
TZOFFSETTO:-0500
TZNAME:CDT
DTSTART:20250309T080000
END:DAYLIGHT
BEGIN:STANDARD
TZOFFSETFROM:-0500
TZOFFSETTO:-0600
TZNAME:CST
DTSTART:20251102T070000
END:STANDARD
END:VTIMEZONE
BEGIN:VEVENT
DTSTART;TZID=America/Chicago:20250915T093000
DTEND;TZID=America/Chicago:20250915T100000
DTSTAMP:20260422T071342
CREATED:20250816T203302Z
LAST-MODIFIED:20250914T234757Z
UID:10001243-1757928600-1757930400@minnehahaseniorliving.com
SUMMARY:Hymn Sing
DESCRIPTION:
URL:https://minnehahaseniorliving.com/event-calendar/hymn-sing-21/
CATEGORIES:Harmony Place,Rose Court
END:VEVENT
BEGIN:VEVENT
DTSTART;TZID=America/Chicago:20250915T100000
DTEND;TZID=America/Chicago:20250915T103000
DTSTAMP:20260422T071342
CREATED:20250821T203325Z
LAST-MODIFIED:20250914T213304Z
UID:10001321-1757930400-1757932200@minnehahaseniorliving.com
SUMMARY:Let's Go To The Zoo!
DESCRIPTION:
URL:https://minnehahaseniorliving.com/event-calendar/lets-go-to-the-zoo-3/
LOCATION:Rose Court
CATEGORIES:Rose Court
END:VEVENT
BEGIN:VEVENT
DTSTART;TZID=America/Chicago:20250915T110000
DTEND;TZID=America/Chicago:20250915T113000
DTSTAMP:20260422T071342
CREATED:20250816T220303Z
LAST-MODIFIED:20250914T224757Z
UID:10001245-1757934000-1757935800@minnehahaseniorliving.com
SUMMARY:Stretching and Meditation
DESCRIPTION:
URL:https://minnehahaseniorliving.com/event-calendar/stretching-and-meditation-23/
LOCATION:4th Floor Green Space
CATEGORIES:ALF
END:VEVENT
BEGIN:VEVENT
DTSTART;TZID=America/Chicago:20250915T110000
DTEND;TZID=America/Chicago:20250915T113000
DTSTAMP:20260422T071342
CREATED:20250820T231812Z
LAST-MODIFIED:20250914T234757Z
UID:10001305-1757934000-1757935800@minnehahaseniorliving.com
SUMMARY:North Star Stories
DESCRIPTION:Videos and discussion of local history topics.
URL:https://minnehahaseniorliving.com/event-calendar/north-star-stories-3/
LOCATION:Harmony Place
CATEGORIES:Harmony Place
END:VEVENT
BEGIN:VEVENT
DTSTART;TZID=America/Chicago:20250915T113000
DTEND;TZID=America/Chicago:20250915T120000
DTSTAMP:20260422T071342
CREATED:20250816T203302Z
LAST-MODIFIED:20250914T234757Z
UID:10001244-1757935800-1757937600@minnehahaseniorliving.com
SUMMARY:Daily Chronicles
DESCRIPTION:
URL:https://minnehahaseniorliving.com/event-calendar/daily-chronicles-111/
CATEGORIES:Harmony Place,Rose Court
END:VEVENT
BEGIN:VEVENT
DTSTART;TZID=America/Chicago:20250915T130000
DTEND;TZID=America/Chicago:20250915T140000
DTSTAMP:20260422T071342
CREATED:20250816T220303Z
LAST-MODIFIED:20250914T224757Z
UID:10001246-1757941200-1757944800@minnehahaseniorliving.com
SUMMARY:Spiritual Conversation and Communion with Chaplain Liza
DESCRIPTION:
URL:https://minnehahaseniorliving.com/event-calendar/spiritual-conversation-and-communion-with-chaplain-liza-16/
LOCATION:Activity Room
CATEGORIES:ALF
END:VEVENT
BEGIN:VEVENT
DTSTART;TZID=America/Chicago:20250915T133000
DTEND;TZID=America/Chicago:20250915T140000
DTSTAMP:20260422T071342
CREATED:20250820T231812Z
LAST-MODIFIED:20250914T234757Z
UID:10001306-1757943000-1757944800@minnehahaseniorliving.com
SUMMARY:Outdoor Patio
DESCRIPTION:
URL:https://minnehahaseniorliving.com/event-calendar/outdoor-patio-51/
LOCATION:Harmony Place
CATEGORIES:Harmony Place
END:VEVENT
BEGIN:VEVENT
DTSTART;TZID=America/Chicago:20250915T140000
DTEND;TZID=America/Chicago:20250915T143000
DTSTAMP:20260422T071342
CREATED:20250816T220303Z
LAST-MODIFIED:20250914T224757Z
UID:10001247-1757944800-1757946600@minnehahaseniorliving.com
SUMMARY:Maverick's Practice
DESCRIPTION:
URL:https://minnehahaseniorliving.com/event-calendar/mavericks-practice/
LOCATION:Lodge
CATEGORIES:ALF
END:VEVENT
BEGIN:VEVENT
DTSTART;TZID=America/Chicago:20250915T143000
DTEND;TZID=America/Chicago:20250915T150000
DTSTAMP:20260422T071342
CREATED:20250821T203325Z
LAST-MODIFIED:20250914T213304Z
UID:10001322-1757946600-1757948400@minnehahaseniorliving.com
SUMMARY:Sound of Music
DESCRIPTION:
URL:https://minnehahaseniorliving.com/event-calendar/sound-of-music-3/
LOCATION:Rose Court
CATEGORIES:Rose Court
END:VEVENT
BEGIN:VEVENT
DTSTART;TZID=America/Chicago:20250915T153000
DTEND;TZID=America/Chicago:20250915T160000
DTSTAMP:20260422T071342
CREATED:20250816T231809Z
LAST-MODIFIED:20250914T234757Z
UID:10001248-1757950200-1757952000@minnehahaseniorliving.com
SUMMARY:Funniest Pets
DESCRIPTION:
URL:https://minnehahaseniorliving.com/event-calendar/funny-videos-18/
LOCATION:Harmony Place
CATEGORIES:Harmony Place
END:VEVENT
BEGIN:VEVENT
DTSTART;TZID=America/Chicago:20250915T160000
DTEND;TZID=America/Chicago:20250915T163000
DTSTAMP:20260422T071342
CREATED:20250816T231809Z
LAST-MODIFIED:20250914T234757Z
UID:10001249-1757952000-1757953800@minnehahaseniorliving.com
SUMMARY:Walking Club
DESCRIPTION:
URL:https://minnehahaseniorliving.com/event-calendar/walking-club-102/
CATEGORIES:Harmony Place,Rose Court
END:VEVENT
BEGIN:VEVENT
DTSTART;TZID=America/Chicago:20250915T193000
DTEND;TZID=America/Chicago:20250915T203000
DTSTAMP:20260422T071342
CREATED:20250817T220300Z
LAST-MODIFIED:20250915T224757Z
UID:10001256-1757964600-1757968200@minnehahaseniorliving.com
SUMMARY:AA Meeting
DESCRIPTION:
URL:https://minnehahaseniorliving.com/event-calendar/aa-meeting-16/
LOCATION:Activity Room
CATEGORIES:ALF
END:VEVENT
END:VCALENDAR