BEGIN:VCALENDAR
VERSION:2.0
PRODID:-//Minnehaha: Senior Living in Minneapolis - ECPv6.13.2.1//NONSGML v1.0//EN
CALSCALE:GREGORIAN
METHOD:PUBLISH
X-WR-CALNAME:Minnehaha: Senior Living in Minneapolis
X-ORIGINAL-URL:https://minnehahaseniorliving.com
X-WR-CALDESC:Events for Minnehaha: Senior Living in Minneapolis
REFRESH-INTERVAL;VALUE=DURATION:PT1H
X-Robots-Tag:noindex
X-PUBLISHED-TTL:PT1H
BEGIN:VTIMEZONE
TZID:America/Chicago
BEGIN:DAYLIGHT
TZOFFSETFROM:-0600
TZOFFSETTO:-0500
TZNAME:CDT
DTSTART:20250309T080000
END:DAYLIGHT
BEGIN:STANDARD
TZOFFSETFROM:-0500
TZOFFSETTO:-0600
TZNAME:CST
DTSTART:20251102T070000
END:STANDARD
END:VTIMEZONE
BEGIN:VEVENT
DTSTART;TZID=America/Chicago:20250816T103000
DTEND;TZID=America/Chicago:20250816T113000
DTSTAMP:20260422T053306
CREATED:20250717T213337Z
LAST-MODIFIED:20250815T220309Z
UID:10000906-1755340200-1755343800@minnehahaseniorliving.com
SUMMARY:Coffee and Chit Chat
DESCRIPTION:
URL:https://minnehahaseniorliving.com/event-calendar/coffee-and-chit-chat-23/
LOCATION:Lodge
CATEGORIES:ALF
END:VEVENT
BEGIN:VEVENT
DTSTART;TZID=America/Chicago:20250816T113000
DTEND;TZID=America/Chicago:20250816T120000
DTSTAMP:20260422T053306
CREATED:20250717T200302Z
LAST-MODIFIED:20250815T231759Z
UID:10000905-1755343800-1755345600@minnehahaseniorliving.com
SUMMARY:Daily Chronicles
DESCRIPTION:
URL:https://minnehahaseniorliving.com/event-calendar/daily-chronicles-81/
CATEGORIES:Harmony Place,Rose Court
END:VEVENT
BEGIN:VEVENT
DTSTART;TZID=America/Chicago:20250816T150000
DTEND;TZID=America/Chicago:20250816T160000
DTSTAMP:20260422T053306
CREATED:20250801T220258Z
LAST-MODIFIED:20250815T220309Z
UID:10001093-1755356400-1755360000@minnehahaseniorliving.com
SUMMARY:Fun and Games with Melissa
DESCRIPTION:
URL:https://minnehahaseniorliving.com/event-calendar/fun-and-games-with-melissa-12/
LOCATION:Lobby
CATEGORIES:ALF
END:VEVENT
BEGIN:VEVENT
DTSTART;TZID=America/Chicago:20250816T160000
DTEND;TZID=America/Chicago:20250816T163000
DTSTAMP:20260422T053306
CREATED:20250717T223311Z
LAST-MODIFIED:20250816T203300Z
UID:10000907-1755360000-1755361800@minnehahaseniorliving.com
SUMMARY:Walking Club
DESCRIPTION:
URL:https://minnehahaseniorliving.com/event-calendar/walking-club-72/
CATEGORIES:Harmony Place,Rose Court
END:VEVENT
BEGIN:VEVENT
DTSTART;TZID=America/Chicago:20250816T180000
DTEND;TZID=America/Chicago:20250816T190000
DTSTAMP:20260422T053306
CREATED:20250801T220258Z
LAST-MODIFIED:20250816T220300Z
UID:10001094-1755367200-1755370800@minnehahaseniorliving.com
SUMMARY:Board Game Night
DESCRIPTION:
URL:https://minnehahaseniorliving.com/event-calendar/board-game-night-12/
LOCATION:Lodge
CATEGORIES:ALF
END:VEVENT
END:VCALENDAR