BEGIN:VCALENDAR
VERSION:2.0
PRODID:-//Minnehaha: Senior Living in Minneapolis - ECPv6.13.2.1//NONSGML v1.0//EN
CALSCALE:GREGORIAN
METHOD:PUBLISH
X-ORIGINAL-URL:https://minnehahaseniorliving.com
X-WR-CALDESC:Events for Minnehaha: Senior Living in Minneapolis
REFRESH-INTERVAL;VALUE=DURATION:PT1H
X-Robots-Tag:noindex
X-PUBLISHED-TTL:PT1H
BEGIN:VTIMEZONE
TZID:America/Chicago
BEGIN:DAYLIGHT
TZOFFSETFROM:-0600
TZOFFSETTO:-0500
TZNAME:CDT
DTSTART:20250309T080000
END:DAYLIGHT
BEGIN:STANDARD
TZOFFSETFROM:-0500
TZOFFSETTO:-0600
TZNAME:CST
DTSTART:20251102T070000
END:STANDARD
END:VTIMEZONE
BEGIN:VEVENT
DTSTART;TZID=America/Chicago:20250813T093000
DTEND;TZID=America/Chicago:20250813T100000
DTSTAMP:20260422T053336
CREATED:20250714T200300Z
LAST-MODIFIED:20250812T203257Z
UID:10000870-1755077400-1755079200@minnehahaseniorliving.com
SUMMARY:Devotions
DESCRIPTION:
URL:https://minnehahaseniorliving.com/event-calendar/devotions-12/
LOCATION:Rose Court
CATEGORIES:Rose Court
END:VEVENT
BEGIN:VEVENT
DTSTART;TZID=America/Chicago:20250813T093000
DTEND;TZID=America/Chicago:20250813T100000
DTSTAMP:20260422T053336
CREATED:20250714T223316Z
LAST-MODIFIED:20250812T231756Z
UID:10000876-1755077400-1755079200@minnehahaseniorliving.com
SUMMARY:Worship Service
DESCRIPTION:
URL:https://minnehahaseniorliving.com/event-calendar/worship-service-21/
LOCATION:Harmony Place
CATEGORIES:Harmony Place
END:VEVENT
BEGIN:VEVENT
DTSTART;TZID=America/Chicago:20250813T094500
DTEND;TZID=America/Chicago:20250813T113000
DTSTAMP:20260422T053336
CREATED:20250729T214805Z
LAST-MODIFIED:20250812T220257Z
UID:10001061-1755078300-1755084600@minnehahaseniorliving.com
SUMMARY:Cub Foods Shopping Outing
DESCRIPTION:
URL:https://minnehahaseniorliving.com/event-calendar/cub-foods-shopping-outing-4/
CATEGORIES:ALF
END:VEVENT
BEGIN:VEVENT
DTSTART;TZID=America/Chicago:20250813T100000
DTEND;TZID=America/Chicago:20250813T103000
DTSTAMP:20260422T053336
CREATED:20250720T223335Z
LAST-MODIFIED:20250812T231756Z
UID:10000963-1755079200-1755081000@minnehahaseniorliving.com
SUMMARY:Cloud Appreciation Society
DESCRIPTION:
URL:https://minnehahaseniorliving.com/event-calendar/cloud-appreciation-society-2/
LOCATION:Harmony Place
CATEGORIES:Harmony Place
END:VEVENT
BEGIN:VEVENT
DTSTART;TZID=America/Chicago:20250813T103000
DTEND;TZID=America/Chicago:20250813T110000
DTSTAMP:20260422T053336
CREATED:20250714T213304Z
LAST-MODIFIED:20250717T213336Z
UID:10000873-1755081000-1755082800@minnehahaseniorliving.com
SUMMARY:Exercise: Basic Weights
DESCRIPTION:
URL:https://minnehahaseniorliving.com/event-calendar/exercise-basic-weights-11/
LOCATION:Activity Room
CATEGORIES:ALF
END:VEVENT
BEGIN:VEVENT
DTSTART;TZID=America/Chicago:20250813T103000
DTEND;TZID=America/Chicago:20250813T110000
DTSTAMP:20260422T053336
CREATED:20250714T213304Z
LAST-MODIFIED:20250717T213336Z
UID:10000874-1755081000-1755082800@minnehahaseniorliving.com
SUMMARY:Group Exercise Class
DESCRIPTION:
URL:https://minnehahaseniorliving.com/event-calendar/group-exercise-class-30/
LOCATION:Lodge
CATEGORIES:ALF
END:VEVENT
BEGIN:VEVENT
DTSTART;TZID=America/Chicago:20250813T110000
DTEND;TZID=America/Chicago:20250813T113000
DTSTAMP:20260422T053336
CREATED:20250720T200305Z
LAST-MODIFIED:20250812T203257Z
UID:10000941-1755082800-1755084600@minnehahaseniorliving.com
SUMMARY:Bingo
DESCRIPTION:
URL:https://minnehahaseniorliving.com/event-calendar/bingo-7/
LOCATION:Rose Court
CATEGORIES:Rose Court
END:VEVENT
BEGIN:VEVENT
DTSTART;TZID=America/Chicago:20250813T113000
DTEND;TZID=America/Chicago:20250813T120000
DTSTAMP:20260422T053336
CREATED:20250714T200300Z
LAST-MODIFIED:20250812T231756Z
UID:10000871-1755084600-1755086400@minnehahaseniorliving.com
SUMMARY:Daily Chronicles
DESCRIPTION:
URL:https://minnehahaseniorliving.com/event-calendar/daily-chronicles-78/
CATEGORIES:Harmony Place,Rose Court
END:VEVENT
BEGIN:VEVENT
DTSTART;TZID=America/Chicago:20250813T130000
DTEND;TZID=America/Chicago:20250813T133000
DTSTAMP:20260422T053336
CREATED:20250730T220302Z
LAST-MODIFIED:20250812T220257Z
UID:10001073-1755090000-1755091800@minnehahaseniorliving.com
SUMMARY:Minnehaha Film Society
DESCRIPTION:Meeting of the Minnehaha Film Society convenes to discuss all things cinema as well as choosing the upcoming movie to be played later that day.
URL:https://minnehahaseniorliving.com/event-calendar/minnehaha-film-society-2/
LOCATION:Longfellow Library
CATEGORIES:ALF
END:VEVENT
BEGIN:VEVENT
DTSTART;TZID=America/Chicago:20250813T134500
DTEND;TZID=America/Chicago:20250813T141500
DTSTAMP:20260422T053336
CREATED:20250714T223316Z
LAST-MODIFIED:20250812T231756Z
UID:10000877-1755092700-1755094500@minnehahaseniorliving.com
SUMMARY:Outdoor Patio
DESCRIPTION:
URL:https://minnehahaseniorliving.com/event-calendar/outdoor-patio-33/
LOCATION:Harmony Place
CATEGORIES:Harmony Place
END:VEVENT
BEGIN:VEVENT
DTSTART;TZID=America/Chicago:20250813T140000
DTEND;TZID=America/Chicago:20250813T150000
DTSTAMP:20260422T053336
CREATED:20250714T213304Z
LAST-MODIFIED:20250812T220257Z
UID:10000875-1755093600-1755097200@minnehahaseniorliving.com
SUMMARY:The Writer's Club
DESCRIPTION:
URL:https://minnehahaseniorliving.com/event-calendar/the-writers-club-11/
LOCATION:Longfellow Library
CATEGORIES:ALF
END:VEVENT
BEGIN:VEVENT
DTSTART;TZID=America/Chicago:20250813T143000
DTEND;TZID=America/Chicago:20250813T150000
DTSTAMP:20260422T053336
CREATED:20250714T200300Z
LAST-MODIFIED:20250812T203257Z
UID:10000872-1755095400-1755097200@minnehahaseniorliving.com
SUMMARY:Outdoor Patio
DESCRIPTION:
URL:https://minnehahaseniorliving.com/event-calendar/outdoor-patio-32/
LOCATION:Rose Court
CATEGORIES:Rose Court
END:VEVENT
BEGIN:VEVENT
DTSTART;TZID=America/Chicago:20250813T150000
DTEND;TZID=America/Chicago:20250813T170000
DTSTAMP:20260422T053336
CREATED:20250718T213342Z
LAST-MODIFIED:20250812T220257Z
UID:10000912-1755097200-1755104400@minnehahaseniorliving.com
SUMMARY:Popcorn and A Movie
DESCRIPTION:
URL:https://minnehahaseniorliving.com/event-calendar/popcorn-and-a-movie-4/
LOCATION:Lodge
CATEGORIES:ALF
END:VEVENT
BEGIN:VEVENT
DTSTART;TZID=America/Chicago:20250813T153000
DTEND;TZID=America/Chicago:20250813T160000
DTSTAMP:20260422T053336
CREATED:20250714T223316Z
LAST-MODIFIED:20250812T231756Z
UID:10000878-1755099000-1755100800@minnehahaseniorliving.com
SUMMARY:Sing Along
DESCRIPTION:
URL:https://minnehahaseniorliving.com/event-calendar/sing-along-22/
LOCATION:Harmony Place
CATEGORIES:Harmony Place
END:VEVENT
BEGIN:VEVENT
DTSTART;TZID=America/Chicago:20250813T160000
DTEND;TZID=America/Chicago:20250813T163000
DTSTAMP:20260422T053336
CREATED:20250714T223316Z
LAST-MODIFIED:20250813T203257Z
UID:10000879-1755100800-1755102600@minnehahaseniorliving.com
SUMMARY:Walking Club
DESCRIPTION:
URL:https://minnehahaseniorliving.com/event-calendar/walking-club-69/
CATEGORIES:Harmony Place,Rose Court
END:VEVENT
END:VCALENDAR