BEGIN:VCALENDAR
VERSION:2.0
PRODID:-//Minnehaha: Senior Living in Minneapolis - ECPv6.13.2.1//NONSGML v1.0//EN
CALSCALE:GREGORIAN
METHOD:PUBLISH
X-ORIGINAL-URL:https://minnehahaseniorliving.com
X-WR-CALDESC:Events for Minnehaha: Senior Living in Minneapolis
REFRESH-INTERVAL;VALUE=DURATION:PT1H
X-Robots-Tag:noindex
X-PUBLISHED-TTL:PT1H
BEGIN:VTIMEZONE
TZID:America/Chicago
BEGIN:DAYLIGHT
TZOFFSETFROM:-0600
TZOFFSETTO:-0500
TZNAME:CDT
DTSTART:20250309T080000
END:DAYLIGHT
BEGIN:STANDARD
TZOFFSETFROM:-0500
TZOFFSETTO:-0600
TZNAME:CST
DTSTART:20251102T070000
END:STANDARD
END:VTIMEZONE
BEGIN:VEVENT
DTSTART;TZID=America/Chicago:20250809T103000
DTEND;TZID=America/Chicago:20250809T113000
DTSTAMP:20260422T053336
CREATED:20250710T213315Z
LAST-MODIFIED:20250808T220313Z
UID:10000826-1754735400-1754739000@minnehahaseniorliving.com
SUMMARY:Coffee and Chit Chat
DESCRIPTION:
URL:https://minnehahaseniorliving.com/event-calendar/coffee-and-chit-chat-21/
LOCATION:Lodge
CATEGORIES:ALF
END:VEVENT
BEGIN:VEVENT
DTSTART;TZID=America/Chicago:20250809T113000
DTEND;TZID=America/Chicago:20250809T120000
DTSTAMP:20260422T053336
CREATED:20250710T200333Z
LAST-MODIFIED:20250808T230300Z
UID:10000823-1754739000-1754740800@minnehahaseniorliving.com
SUMMARY:Daily Chronicles
DESCRIPTION:
URL:https://minnehahaseniorliving.com/event-calendar/daily-chronicles-74/
CATEGORIES:Harmony Place,Rose Court
END:VEVENT
BEGIN:VEVENT
DTSTART;TZID=America/Chicago:20250809T150000
DTEND;TZID=America/Chicago:20250809T160000
DTSTAMP:20260422T053336
CREATED:20250801T220257Z
LAST-MODIFIED:20250808T220314Z
UID:10001091-1754751600-1754755200@minnehahaseniorliving.com
SUMMARY:Fun and Games with Melissa
DESCRIPTION:
URL:https://minnehahaseniorliving.com/event-calendar/fun-and-games-with-melissa-11/
LOCATION:Lobby
CATEGORIES:ALF
END:VEVENT
BEGIN:VEVENT
DTSTART;TZID=America/Chicago:20250809T160000
DTEND;TZID=America/Chicago:20250809T163000
DTSTAMP:20260422T053336
CREATED:20250710T221827Z
LAST-MODIFIED:20250809T201807Z
UID:10000833-1754755200-1754757000@minnehahaseniorliving.com
SUMMARY:Walking Club
DESCRIPTION:
URL:https://minnehahaseniorliving.com/event-calendar/walking-club-65/
CATEGORIES:Harmony Place,Rose Court
END:VEVENT
BEGIN:VEVENT
DTSTART;TZID=America/Chicago:20250809T180000
DTEND;TZID=America/Chicago:20250809T190000
DTSTAMP:20260422T053336
CREATED:20250801T220257Z
LAST-MODIFIED:20250809T220257Z
UID:10001092-1754762400-1754766000@minnehahaseniorliving.com
SUMMARY:Board Game Night
DESCRIPTION:
URL:https://minnehahaseniorliving.com/event-calendar/board-game-night-11/
LOCATION:Lodge
CATEGORIES:ALF
END:VEVENT
END:VCALENDAR