BEGIN:VCALENDAR
VERSION:2.0
PRODID:-//Minnehaha: Senior Living in Minneapolis - ECPv6.13.2.1//NONSGML v1.0//EN
CALSCALE:GREGORIAN
METHOD:PUBLISH
X-WR-CALNAME:Minnehaha: Senior Living in Minneapolis
X-ORIGINAL-URL:https://minnehahaseniorliving.com
X-WR-CALDESC:Events for Minnehaha: Senior Living in Minneapolis
REFRESH-INTERVAL;VALUE=DURATION:PT1H
X-Robots-Tag:noindex
X-PUBLISHED-TTL:PT1H
BEGIN:VTIMEZONE
TZID:America/Chicago
BEGIN:DAYLIGHT
TZOFFSETFROM:-0600
TZOFFSETTO:-0500
TZNAME:CDT
DTSTART:20250309T080000
END:DAYLIGHT
BEGIN:STANDARD
TZOFFSETFROM:-0500
TZOFFSETTO:-0600
TZNAME:CST
DTSTART:20251102T070000
END:STANDARD
END:VTIMEZONE
BEGIN:VEVENT
DTSTART;TZID=America/Chicago:20250806T093000
DTEND;TZID=America/Chicago:20250806T100000
DTSTAMP:20260422T053221
CREATED:20250707T200304Z
LAST-MODIFIED:20250805T201758Z
UID:10000774-1754472600-1754474400@minnehahaseniorliving.com
SUMMARY:Devotions
DESCRIPTION:
URL:https://minnehahaseniorliving.com/event-calendar/devotions-11/
LOCATION:Rose Court
CATEGORIES:Rose Court
END:VEVENT
BEGIN:VEVENT
DTSTART;TZID=America/Chicago:20250806T093000
DTEND;TZID=America/Chicago:20250806T100000
DTSTAMP:20260422T053222
CREATED:20250707T221807Z
LAST-MODIFIED:20250805T230258Z
UID:10000786-1754472600-1754474400@minnehahaseniorliving.com
SUMMARY:Worship Service
DESCRIPTION:
URL:https://minnehahaseniorliving.com/event-calendar/worship-service-20/
LOCATION:Harmony Place
CATEGORIES:Harmony Place
END:VEVENT
BEGIN:VEVENT
DTSTART;TZID=America/Chicago:20250806T100000
DTEND;TZID=America/Chicago:20250806T103000
DTSTAMP:20260422T053222
CREATED:20250720T223334Z
LAST-MODIFIED:20250805T230258Z
UID:10000959-1754474400-1754476200@minnehahaseniorliving.com
SUMMARY:Cloud Appreciation Society
DESCRIPTION:
URL:https://minnehahaseniorliving.com/event-calendar/cloud-appreciation-society/
LOCATION:Harmony Place
CATEGORIES:Harmony Place
END:VEVENT
BEGIN:VEVENT
DTSTART;TZID=America/Chicago:20250806T103000
DTEND;TZID=America/Chicago:20250806T110000
DTSTAMP:20260422T053222
CREATED:20250707T213300Z
LAST-MODIFIED:20250717T213335Z
UID:10000778-1754476200-1754478000@minnehahaseniorliving.com
SUMMARY:Exercise: Basic Weights
DESCRIPTION:
URL:https://minnehahaseniorliving.com/event-calendar/exercise-basic-weights-10/
LOCATION:Activity Room
CATEGORIES:ALF
END:VEVENT
BEGIN:VEVENT
DTSTART;TZID=America/Chicago:20250806T103000
DTEND;TZID=America/Chicago:20250806T110000
DTSTAMP:20260422T053222
CREATED:20250707T213301Z
LAST-MODIFIED:20250717T213335Z
UID:10000779-1754476200-1754478000@minnehahaseniorliving.com
SUMMARY:Group Exercise Class
DESCRIPTION:
URL:https://minnehahaseniorliving.com/event-calendar/group-exercise-class-25/
LOCATION:Lodge
CATEGORIES:ALF
END:VEVENT
BEGIN:VEVENT
DTSTART;TZID=America/Chicago:20250806T110000
DTEND;TZID=America/Chicago:20250806T113000
DTSTAMP:20260422T053222
CREATED:20250720T200303Z
LAST-MODIFIED:20250805T201758Z
UID:10000935-1754478000-1754479800@minnehahaseniorliving.com
SUMMARY:Bingo
DESCRIPTION:
URL:https://minnehahaseniorliving.com/event-calendar/bingo-6/
LOCATION:Rose Court
CATEGORIES:Rose Court
END:VEVENT
BEGIN:VEVENT
DTSTART;TZID=America/Chicago:20250806T113000
DTEND;TZID=America/Chicago:20250806T120000
DTSTAMP:20260422T053222
CREATED:20250707T200304Z
LAST-MODIFIED:20250805T230258Z
UID:10000775-1754479800-1754481600@minnehahaseniorliving.com
SUMMARY:Daily Chronicles
DESCRIPTION:
URL:https://minnehahaseniorliving.com/event-calendar/daily-chronicles-71/
CATEGORIES:Harmony Place,Rose Court
END:VEVENT
BEGIN:VEVENT
DTSTART;TZID=America/Chicago:20250806T130000
DTEND;TZID=America/Chicago:20250806T133000
DTSTAMP:20260422T053222
CREATED:20250730T220301Z
LAST-MODIFIED:20250805T220313Z
UID:10001072-1754485200-1754487000@minnehahaseniorliving.com
SUMMARY:Minnehaha Film Society
DESCRIPTION:Meeting of the Minnehaha Film Society convenes to discuss all things cinema as well as choosing the upcoming movie to be played later that day.
URL:https://minnehahaseniorliving.com/event-calendar/minnehaha-film-society/
LOCATION:Longfellow Library
CATEGORIES:ALF
END:VEVENT
BEGIN:VEVENT
DTSTART;TZID=America/Chicago:20250806T134500
DTEND;TZID=America/Chicago:20250806T141500
DTSTAMP:20260422T053222
CREATED:20250707T221807Z
LAST-MODIFIED:20250805T230258Z
UID:10000787-1754487900-1754489700@minnehahaseniorliving.com
SUMMARY:Outdoor Patio
DESCRIPTION:
URL:https://minnehahaseniorliving.com/event-calendar/outdoor-patio-30/
LOCATION:Harmony Place
CATEGORIES:Harmony Place
END:VEVENT
BEGIN:VEVENT
DTSTART;TZID=America/Chicago:20250806T140000
DTEND;TZID=America/Chicago:20250806T150000
DTSTAMP:20260422T053222
CREATED:20250707T213301Z
LAST-MODIFIED:20250805T220313Z
UID:10000780-1754488800-1754492400@minnehahaseniorliving.com
SUMMARY:The Writer's Club
DESCRIPTION:
URL:https://minnehahaseniorliving.com/event-calendar/the-writers-club-10/
LOCATION:Longfellow Library
CATEGORIES:ALF
END:VEVENT
BEGIN:VEVENT
DTSTART;TZID=America/Chicago:20250806T143000
DTEND;TZID=America/Chicago:20250806T150000
DTSTAMP:20260422T053222
CREATED:20250707T200304Z
LAST-MODIFIED:20250805T201758Z
UID:10000776-1754490600-1754492400@minnehahaseniorliving.com
SUMMARY:Outdoor Patio
DESCRIPTION:
URL:https://minnehahaseniorliving.com/event-calendar/outdoor-patio-29/
LOCATION:Rose Court
CATEGORIES:Rose Court
END:VEVENT
BEGIN:VEVENT
DTSTART;TZID=America/Chicago:20250806T150000
DTEND;TZID=America/Chicago:20250806T170000
DTSTAMP:20260422T053222
CREATED:20250718T213341Z
LAST-MODIFIED:20250805T220313Z
UID:10000911-1754492400-1754499600@minnehahaseniorliving.com
SUMMARY:Popcorn and A Movie
DESCRIPTION:
URL:https://minnehahaseniorliving.com/event-calendar/popcorn-and-a-movie-3/
LOCATION:Lodge
CATEGORIES:ALF
END:VEVENT
BEGIN:VEVENT
DTSTART;TZID=America/Chicago:20250806T153000
DTEND;TZID=America/Chicago:20250806T160000
DTSTAMP:20260422T053222
CREATED:20250707T221807Z
LAST-MODIFIED:20250805T230258Z
UID:10000788-1754494200-1754496000@minnehahaseniorliving.com
SUMMARY:Sing Along
DESCRIPTION:
URL:https://minnehahaseniorliving.com/event-calendar/sing-along-21/
LOCATION:Harmony Place
CATEGORIES:Harmony Place
END:VEVENT
BEGIN:VEVENT
DTSTART;TZID=America/Chicago:20250806T160000
DTEND;TZID=America/Chicago:20250806T163000
DTSTAMP:20260422T053222
CREATED:20250707T221807Z
LAST-MODIFIED:20250806T201809Z
UID:10000789-1754496000-1754497800@minnehahaseniorliving.com
SUMMARY:Walking Club
DESCRIPTION:
URL:https://minnehahaseniorliving.com/event-calendar/walking-club-62/
CATEGORIES:Harmony Place,Rose Court
END:VEVENT
END:VCALENDAR