BEGIN:VCALENDAR
VERSION:2.0
PRODID:-//Minnehaha: Senior Living in Minneapolis - ECPv6.13.2.1//NONSGML v1.0//EN
CALSCALE:GREGORIAN
METHOD:PUBLISH
X-ORIGINAL-URL:https://minnehahaseniorliving.com
X-WR-CALDESC:Events for Minnehaha: Senior Living in Minneapolis
REFRESH-INTERVAL;VALUE=DURATION:PT1H
X-Robots-Tag:noindex
X-PUBLISHED-TTL:PT1H
BEGIN:VTIMEZONE
TZID:America/Chicago
BEGIN:DAYLIGHT
TZOFFSETFROM:-0600
TZOFFSETTO:-0500
TZNAME:CDT
DTSTART:20250309T080000
END:DAYLIGHT
BEGIN:STANDARD
TZOFFSETFROM:-0500
TZOFFSETTO:-0600
TZNAME:CST
DTSTART:20251102T070000
END:STANDARD
END:VTIMEZONE
BEGIN:VEVENT
DTSTART;TZID=America/Chicago:20250803T093000
DTEND;TZID=America/Chicago:20250803T103000
DTSTAMP:20260422T033956
CREATED:20250704T210354Z
LAST-MODIFIED:20250802T220320Z
UID:10000743-1754213400-1754217000@minnehahaseniorliving.com
SUMMARY:Coffee and Chit Chat
DESCRIPTION:
URL:https://minnehahaseniorliving.com/event-calendar/coffee-and-chit-chat-20/
LOCATION:Lodge
CATEGORIES:ALF
END:VEVENT
BEGIN:VEVENT
DTSTART;TZID=America/Chicago:20250803T100000
DTEND;TZID=America/Chicago:20250803T110000
DTSTAMP:20260422T033956
CREATED:20250704T210354Z
LAST-MODIFIED:20250802T220320Z
UID:10000744-1754215200-1754218800@minnehahaseniorliving.com
SUMMARY:Resident Led Worship Service
DESCRIPTION:
URL:https://minnehahaseniorliving.com/event-calendar/resident-led-worship-service-6/
LOCATION:Lodge
CATEGORIES:ALF
END:VEVENT
BEGIN:VEVENT
DTSTART;TZID=America/Chicago:20250803T101500
DTEND;TZID=America/Chicago:20250803T104500
DTSTAMP:20260422T033956
CREATED:20250720T223333Z
LAST-MODIFIED:20250802T224806Z
UID:10000956-1754216100-1754217900@minnehahaseniorliving.com
SUMMARY:Worship Service
DESCRIPTION:
URL:https://minnehahaseniorliving.com/event-calendar/worship-service-22/
LOCATION:Harmony Place
CATEGORIES:Harmony Place
END:VEVENT
BEGIN:VEVENT
DTSTART;TZID=America/Chicago:20250803T110000
DTEND;TZID=America/Chicago:20250803T113000
DTSTAMP:20260422T033956
CREATED:20250720T200303Z
LAST-MODIFIED:20250802T201816Z
UID:10000930-1754218800-1754220600@minnehahaseniorliving.com
SUMMARY:Balloon Volleyball
DESCRIPTION:
URL:https://minnehahaseniorliving.com/event-calendar/balloon-volleyball-26/
LOCATION:Rose Court
CATEGORIES:Rose Court
END:VEVENT
BEGIN:VEVENT
DTSTART;TZID=America/Chicago:20250803T113000
DTEND;TZID=America/Chicago:20250803T120000
DTSTAMP:20260422T033956
CREATED:20250704T200310Z
LAST-MODIFIED:20250802T224806Z
UID:10000742-1754220600-1754222400@minnehahaseniorliving.com
SUMMARY:Daily Chronicles
DESCRIPTION:
URL:https://minnehahaseniorliving.com/event-calendar/daily-chronicles-68/
CATEGORIES:Harmony Place,Rose Court
END:VEVENT
BEGIN:VEVENT
DTSTART;TZID=America/Chicago:20250803T130000
DTEND;TZID=America/Chicago:20250803T133000
DTSTAMP:20260422T033956
CREATED:20250704T221802Z
LAST-MODIFIED:20250802T224806Z
UID:10000748-1754226000-1754227800@minnehahaseniorliving.com
SUMMARY:Outdoor Patio
DESCRIPTION:
URL:https://minnehahaseniorliving.com/event-calendar/outdoor-patio-28/
LOCATION:Harmony Place
CATEGORIES:Harmony Place
END:VEVENT
BEGIN:VEVENT
DTSTART;TZID=America/Chicago:20250803T140000
DTEND;TZID=America/Chicago:20250803T143000
DTSTAMP:20260422T033957
CREATED:20250704T210354Z
LAST-MODIFIED:20250802T220320Z
UID:10000746-1754229600-1754231400@minnehahaseniorliving.com
SUMMARY:Dream Tea
DESCRIPTION:
URL:https://minnehahaseniorliving.com/event-calendar/dream-tea-5/
LOCATION:Activity Room
CATEGORIES:ALF
END:VEVENT
BEGIN:VEVENT
DTSTART;TZID=America/Chicago:20250803T140000
DTEND;TZID=America/Chicago:20250803T150000
DTSTAMP:20260422T033957
CREATED:20250704T210354Z
LAST-MODIFIED:20250802T220320Z
UID:10000745-1754229600-1754233200@minnehahaseniorliving.com
SUMMARY:Hymn Sing
DESCRIPTION:
URL:https://minnehahaseniorliving.com/event-calendar/hymn-sing-12/
LOCATION:Dining Room
CATEGORIES:ALF
END:VEVENT
BEGIN:VEVENT
DTSTART;TZID=America/Chicago:20250803T150000
DTEND;TZID=America/Chicago:20250803T153000
DTSTAMP:20260422T033957
CREATED:20250704T210354Z
LAST-MODIFIED:20250802T220320Z
UID:10000747-1754233200-1754235000@minnehahaseniorliving.com
SUMMARY:Lobby Games
DESCRIPTION:
URL:https://minnehahaseniorliving.com/event-calendar/lobby-games-10/
LOCATION:Lobby
CATEGORIES:ALF
END:VEVENT
BEGIN:VEVENT
DTSTART;TZID=America/Chicago:20250803T150000
DTEND;TZID=America/Chicago:20250803T153000
DTSTAMP:20260422T033957
CREATED:20250720T200303Z
LAST-MODIFIED:20250803T201824Z
UID:10000931-1754233200-1754235000@minnehahaseniorliving.com
SUMMARY:Expressive Art
DESCRIPTION:
URL:https://minnehahaseniorliving.com/event-calendar/expressive-art-10/
LOCATION:Rose Court
CATEGORIES:Rose Court
END:VEVENT
BEGIN:VEVENT
DTSTART;TZID=America/Chicago:20250803T160000
DTEND;TZID=America/Chicago:20250803T163000
DTSTAMP:20260422T033957
CREATED:20250704T221802Z
LAST-MODIFIED:20250803T201824Z
UID:10000749-1754236800-1754238600@minnehahaseniorliving.com
SUMMARY:Walking Club
DESCRIPTION:
URL:https://minnehahaseniorliving.com/event-calendar/walking-club-59/
CATEGORIES:Harmony Place,Rose Court
END:VEVENT
END:VCALENDAR