BEGIN:VCALENDAR
VERSION:2.0
PRODID:-//Minnehaha: Senior Living in Minneapolis - ECPv6.13.2.1//NONSGML v1.0//EN
CALSCALE:GREGORIAN
METHOD:PUBLISH
X-WR-CALNAME:Minnehaha: Senior Living in Minneapolis
X-ORIGINAL-URL:https://minnehahaseniorliving.com
X-WR-CALDESC:Events for Minnehaha: Senior Living in Minneapolis
REFRESH-INTERVAL;VALUE=DURATION:PT1H
X-Robots-Tag:noindex
X-PUBLISHED-TTL:PT1H
BEGIN:VTIMEZONE
TZID:America/Chicago
BEGIN:DAYLIGHT
TZOFFSETFROM:-0600
TZOFFSETTO:-0500
TZNAME:CDT
DTSTART:20250309T080000
END:DAYLIGHT
BEGIN:STANDARD
TZOFFSETFROM:-0500
TZOFFSETTO:-0600
TZNAME:CST
DTSTART:20251102T070000
END:STANDARD
END:VTIMEZONE
BEGIN:VEVENT
DTSTART;TZID=America/Chicago:20250731T100000
DTEND;TZID=America/Chicago:20250731T103000
DTSTAMP:20260422T033844
CREATED:20250701T200300Z
LAST-MODIFIED:20250730T223257Z
UID:10000712-1753956000-1753957800@minnehahaseniorliving.com
SUMMARY:Gospel Music
DESCRIPTION:
URL:https://minnehahaseniorliving.com/event-calendar/gospel-music-19/
CATEGORIES:Harmony Place,Rose Court
END:VEVENT
BEGIN:VEVENT
DTSTART;TZID=America/Chicago:20250731T103000
DTEND;TZID=America/Chicago:20250731T110000
DTSTAMP:20260422T033844
CREATED:20250701T200300Z
LAST-MODIFIED:20250730T201803Z
UID:10000713-1753957800-1753959600@minnehahaseniorliving.com
SUMMARY:Storytime
DESCRIPTION:
URL:https://minnehahaseniorliving.com/event-calendar/storytime-10/
CATEGORIES:Rose Court
END:VEVENT
BEGIN:VEVENT
DTSTART;TZID=America/Chicago:20250731T103000
DTEND;TZID=America/Chicago:20250731T110000
DTSTAMP:20260422T033844
CREATED:20250701T203316Z
LAST-MODIFIED:20250717T213334Z
UID:10000718-1753957800-1753959600@minnehahaseniorliving.com
SUMMARY:Group Exercise Class
DESCRIPTION:
URL:https://minnehahaseniorliving.com/event-calendar/group-exercise-class-21/
LOCATION:Lodge
CATEGORIES:ALF
END:VEVENT
BEGIN:VEVENT
DTSTART;TZID=America/Chicago:20250731T110000
DTEND;TZID=America/Chicago:20250731T113000
DTSTAMP:20260422T033844
CREATED:20250701T221803Z
LAST-MODIFIED:20250730T223257Z
UID:10000724-1753959600-1753961400@minnehahaseniorliving.com
SUMMARY:Puzzle Time!
DESCRIPTION:
URL:https://minnehahaseniorliving.com/event-calendar/puzzle-time-19/
CATEGORIES:Harmony Place
END:VEVENT
BEGIN:VEVENT
DTSTART;TZID=America/Chicago:20250731T113000
DTEND;TZID=America/Chicago:20250731T120000
DTSTAMP:20260422T033844
CREATED:20250701T200300Z
LAST-MODIFIED:20250730T223257Z
UID:10000714-1753961400-1753963200@minnehahaseniorliving.com
SUMMARY:Daily Chronicles
DESCRIPTION:
URL:https://minnehahaseniorliving.com/event-calendar/daily-chronicles-65/
CATEGORIES:Harmony Place,Rose Court
END:VEVENT
BEGIN:VEVENT
DTSTART;TZID=America/Chicago:20250731T140000
DTEND;TZID=America/Chicago:20250731T150000
DTSTAMP:20260422T033844
CREATED:20250701T200300Z
LAST-MODIFIED:20250730T223257Z
UID:10000715-1753970400-1753974000@minnehahaseniorliving.com
SUMMARY:Happy Hour
DESCRIPTION:
URL:https://minnehahaseniorliving.com/event-calendar/happy-hour-7/
LOCATION:Dining Room
CATEGORIES:ALF,Harmony Place,Rose Court
END:VEVENT
BEGIN:VEVENT
DTSTART;TZID=America/Chicago:20250731T150000
DTEND;TZID=America/Chicago:20250731T153000
DTSTAMP:20260422T033844
CREATED:20250701T200300Z
LAST-MODIFIED:20250731T201822Z
UID:10000716-1753974000-1753975800@minnehahaseniorliving.com
SUMMARY:Bowling
DESCRIPTION:
URL:https://minnehahaseniorliving.com/event-calendar/bowling-10/
CATEGORIES:Rose Court
END:VEVENT
BEGIN:VEVENT
DTSTART;TZID=America/Chicago:20250731T153000
DTEND;TZID=America/Chicago:20250731T163000
DTSTAMP:20260422T033844
CREATED:20250701T203316Z
LAST-MODIFIED:20250730T220302Z
UID:10000719-1753975800-1753979400@minnehahaseniorliving.com
SUMMARY:Table Games
DESCRIPTION:
URL:https://minnehahaseniorliving.com/event-calendar/table-games-18/
LOCATION:Lodge
CATEGORIES:ALF
END:VEVENT
BEGIN:VEVENT
DTSTART;TZID=America/Chicago:20250731T160000
DTEND;TZID=America/Chicago:20250731T163000
DTSTAMP:20260422T033844
CREATED:20250701T221803Z
LAST-MODIFIED:20250731T201822Z
UID:10000725-1753977600-1753979400@minnehahaseniorliving.com
SUMMARY:Walking Club
DESCRIPTION:
URL:https://minnehahaseniorliving.com/event-calendar/walking-club-56/
CATEGORIES:Harmony Place,Rose Court
END:VEVENT
BEGIN:VEVENT
DTSTART;TZID=America/Chicago:20250731T183000
DTEND;TZID=America/Chicago:20250731T193000
DTSTAMP:20260422T033844
CREATED:20250702T203326Z
LAST-MODIFIED:20250731T220312Z
UID:10000730-1753986600-1753990200@minnehahaseniorliving.com
SUMMARY:Creative Coloring and Conversation
DESCRIPTION:
URL:https://minnehahaseniorliving.com/event-calendar/creative-coloring-and-conversation-10/
LOCATION:Lodge
CATEGORIES:ALF
END:VEVENT
END:VCALENDAR