BEGIN:VCALENDAR
VERSION:2.0
PRODID:-//Minnehaha: Senior Living in Minneapolis - ECPv6.13.2.1//NONSGML v1.0//EN
CALSCALE:GREGORIAN
METHOD:PUBLISH
X-ORIGINAL-URL:https://minnehahaseniorliving.com
X-WR-CALDESC:Events for Minnehaha: Senior Living in Minneapolis
REFRESH-INTERVAL;VALUE=DURATION:PT1H
X-Robots-Tag:noindex
X-PUBLISHED-TTL:PT1H
BEGIN:VTIMEZONE
TZID:America/Chicago
BEGIN:DAYLIGHT
TZOFFSETFROM:-0600
TZOFFSETTO:-0500
TZNAME:CDT
DTSTART:20250309T080000
END:DAYLIGHT
BEGIN:STANDARD
TZOFFSETFROM:-0500
TZOFFSETTO:-0600
TZNAME:CST
DTSTART:20251102T070000
END:STANDARD
END:VTIMEZONE
BEGIN:VEVENT
DTSTART;TZID=America/Chicago:20250730T093000
DTEND;TZID=America/Chicago:20250730T100000
DTSTAMP:20260422T033957
CREATED:20250630T200336Z
LAST-MODIFIED:20250729T201811Z
UID:10000699-1753867800-1753869600@minnehahaseniorliving.com
SUMMARY:Devotions
DESCRIPTION:
URL:https://minnehahaseniorliving.com/event-calendar/devotions-10/
LOCATION:Rose Court
CATEGORIES:Rose Court
END:VEVENT
BEGIN:VEVENT
DTSTART;TZID=America/Chicago:20250730T093000
DTEND;TZID=America/Chicago:20250730T100000
DTSTAMP:20260422T033957
CREATED:20250630T220330Z
LAST-MODIFIED:20250729T223255Z
UID:10000707-1753867800-1753869600@minnehahaseniorliving.com
SUMMARY:Worship Service
DESCRIPTION:
URL:https://minnehahaseniorliving.com/event-calendar/worship-service-19/
LOCATION:Harmony Place
CATEGORIES:Harmony Place
END:VEVENT
BEGIN:VEVENT
DTSTART;TZID=America/Chicago:20250730T100000
DTEND;TZID=America/Chicago:20250730T103000
DTSTAMP:20260422T033957
CREATED:20250630T220330Z
LAST-MODIFIED:20250729T223255Z
UID:10000708-1753869600-1753871400@minnehahaseniorliving.com
SUMMARY:Cloud Appreciation Society
DESCRIPTION:
URL:https://minnehahaseniorliving.com/event-calendar/birdwatching-flower-appreciation-9/
LOCATION:Harmony Place
CATEGORIES:Harmony Place
END:VEVENT
BEGIN:VEVENT
DTSTART;TZID=America/Chicago:20250730T103000
DTEND;TZID=America/Chicago:20250730T110000
DTSTAMP:20260422T033957
CREATED:20250630T201824Z
LAST-MODIFIED:20250717T213334Z
UID:10000703-1753871400-1753873200@minnehahaseniorliving.com
SUMMARY:Exercise: Basic Weights
DESCRIPTION:
URL:https://minnehahaseniorliving.com/event-calendar/exercise-basic-weights-9/
LOCATION:Activity Room
CATEGORIES:ALF
END:VEVENT
BEGIN:VEVENT
DTSTART;TZID=America/Chicago:20250730T110000
DTEND;TZID=America/Chicago:20250730T113000
DTSTAMP:20260422T033957
CREATED:20250630T200336Z
LAST-MODIFIED:20250729T201811Z
UID:10000700-1753873200-1753875000@minnehahaseniorliving.com
SUMMARY:Bingo
DESCRIPTION:
URL:https://minnehahaseniorliving.com/event-calendar/bingo-5/
LOCATION:Rose Court
CATEGORIES:Rose Court
END:VEVENT
BEGIN:VEVENT
DTSTART;TZID=America/Chicago:20250730T113000
DTEND;TZID=America/Chicago:20250730T120000
DTSTAMP:20260422T033957
CREATED:20250630T200336Z
LAST-MODIFIED:20250729T223255Z
UID:10000701-1753875000-1753876800@minnehahaseniorliving.com
SUMMARY:Daily Chronicles
DESCRIPTION:
URL:https://minnehahaseniorliving.com/event-calendar/daily-chronicles-64/
CATEGORIES:Harmony Place,Rose Court
END:VEVENT
BEGIN:VEVENT
DTSTART;TZID=America/Chicago:20250730T130000
DTEND;TZID=America/Chicago:20250730T134500
DTSTAMP:20260422T033957
CREATED:20250630T201825Z
LAST-MODIFIED:20250729T214806Z
UID:10000704-1753880400-1753883100@minnehahaseniorliving.com
SUMMARY:Spark Academy: Local History
DESCRIPTION:
URL:https://minnehahaseniorliving.com/event-calendar/spark-academy-local-history/
LOCATION:Activity Room
CATEGORIES:ALF
END:VEVENT
BEGIN:VEVENT
DTSTART;TZID=America/Chicago:20250730T134500
DTEND;TZID=America/Chicago:20250730T141500
DTSTAMP:20260422T033957
CREATED:20250630T220330Z
LAST-MODIFIED:20250729T223255Z
UID:10000709-1753883100-1753884900@minnehahaseniorliving.com
SUMMARY:Outdoor Patio
DESCRIPTION:
URL:https://minnehahaseniorliving.com/event-calendar/outdoor-patio-27/
LOCATION:Harmony Place
CATEGORIES:Harmony Place
END:VEVENT
BEGIN:VEVENT
DTSTART;TZID=America/Chicago:20250730T140000
DTEND;TZID=America/Chicago:20250730T150000
DTSTAMP:20260422T033957
CREATED:20250630T201825Z
LAST-MODIFIED:20250729T214806Z
UID:10000705-1753884000-1753887600@minnehahaseniorliving.com
SUMMARY:The Writer's Club
DESCRIPTION:
URL:https://minnehahaseniorliving.com/event-calendar/the-writers-club-9/
LOCATION:Activity Room
CATEGORIES:ALF
END:VEVENT
BEGIN:VEVENT
DTSTART;TZID=America/Chicago:20250730T143000
DTEND;TZID=America/Chicago:20250730T150000
DTSTAMP:20260422T033957
CREATED:20250630T200336Z
LAST-MODIFIED:20250729T201811Z
UID:10000702-1753885800-1753887600@minnehahaseniorliving.com
SUMMARY:Outdoor Patio
DESCRIPTION:
URL:https://minnehahaseniorliving.com/event-calendar/outdoor-patio-26/
LOCATION:Rose Court
CATEGORIES:Rose Court
END:VEVENT
BEGIN:VEVENT
DTSTART;TZID=America/Chicago:20250730T150000
DTEND;TZID=America/Chicago:20250730T160000
DTSTAMP:20260422T033957
CREATED:20250630T201825Z
LAST-MODIFIED:20250717T213334Z
UID:10000706-1753887600-1753891200@minnehahaseniorliving.com
SUMMARY:Arts and Crafts
DESCRIPTION:
URL:https://minnehahaseniorliving.com/event-calendar/arts-and-crafts-16/
LOCATION:Activity Room
CATEGORIES:ALF
END:VEVENT
BEGIN:VEVENT
DTSTART;TZID=America/Chicago:20250730T150000
DTEND;TZID=America/Chicago:20250730T170000
DTSTAMP:20260422T033957
CREATED:20250718T213340Z
LAST-MODIFIED:20250729T214806Z
UID:10000910-1753887600-1753894800@minnehahaseniorliving.com
SUMMARY:Popcorn and A Movie
DESCRIPTION:
URL:https://minnehahaseniorliving.com/event-calendar/popcorn-and-a-movie-2/
LOCATION:Lodge
CATEGORIES:ALF
END:VEVENT
BEGIN:VEVENT
DTSTART;TZID=America/Chicago:20250730T153000
DTEND;TZID=America/Chicago:20250730T160000
DTSTAMP:20260422T033957
CREATED:20250630T220330Z
LAST-MODIFIED:20250729T223255Z
UID:10000710-1753889400-1753891200@minnehahaseniorliving.com
SUMMARY:Sing Along
DESCRIPTION:
URL:https://minnehahaseniorliving.com/event-calendar/sing-along-20/
LOCATION:Harmony Place
CATEGORIES:Harmony Place
END:VEVENT
BEGIN:VEVENT
DTSTART;TZID=America/Chicago:20250730T160000
DTEND;TZID=America/Chicago:20250730T163000
DTSTAMP:20260422T033957
CREATED:20250630T220330Z
LAST-MODIFIED:20250730T201802Z
UID:10000711-1753891200-1753893000@minnehahaseniorliving.com
SUMMARY:Walking Club
DESCRIPTION:
URL:https://minnehahaseniorliving.com/event-calendar/walking-club-55/
CATEGORIES:Harmony Place,Rose Court
END:VEVENT
END:VCALENDAR