BEGIN:VCALENDAR
VERSION:2.0
PRODID:-//Minnehaha: Senior Living in Minneapolis - ECPv6.13.2.1//NONSGML v1.0//EN
CALSCALE:GREGORIAN
METHOD:PUBLISH
X-ORIGINAL-URL:https://minnehahaseniorliving.com
X-WR-CALDESC:Events for Minnehaha: Senior Living in Minneapolis
REFRESH-INTERVAL;VALUE=DURATION:PT1H
X-Robots-Tag:noindex
X-PUBLISHED-TTL:PT1H
BEGIN:VTIMEZONE
TZID:America/Chicago
BEGIN:DAYLIGHT
TZOFFSETFROM:-0600
TZOFFSETTO:-0500
TZNAME:CDT
DTSTART:20250309T080000
END:DAYLIGHT
BEGIN:STANDARD
TZOFFSETFROM:-0500
TZOFFSETTO:-0600
TZNAME:CST
DTSTART:20251102T070000
END:STANDARD
END:VTIMEZONE
BEGIN:VEVENT
DTSTART;TZID=America/Chicago:20250726T103000
DTEND;TZID=America/Chicago:20250726T113000
DTSTAMP:20260422T033956
CREATED:20250626T201844Z
LAST-MODIFIED:20250725T214803Z
UID:10000651-1753525800-1753529400@minnehahaseniorliving.com
SUMMARY:Coffee and Chit Chat
DESCRIPTION:
URL:https://minnehahaseniorliving.com/event-calendar/coffee-and-chit-chat-17/
LOCATION:Lodge
CATEGORIES:ALF
END:VEVENT
BEGIN:VEVENT
DTSTART;TZID=America/Chicago:20250726T113000
DTEND;TZID=America/Chicago:20250726T120000
DTSTAMP:20260422T033956
CREATED:20250626T194827Z
LAST-MODIFIED:20250725T223301Z
UID:10000650-1753529400-1753531200@minnehahaseniorliving.com
SUMMARY:Daily Chronicles
DESCRIPTION:
URL:https://minnehahaseniorliving.com/event-calendar/daily-chronicles-60/
CATEGORIES:Harmony Place,Rose Court
END:VEVENT
BEGIN:VEVENT
DTSTART;TZID=America/Chicago:20250726T150000
DTEND;TZID=America/Chicago:20250726T160000
DTSTAMP:20260422T033956
CREATED:20250626T201844Z
LAST-MODIFIED:20250725T214803Z
UID:10000652-1753542000-1753545600@minnehahaseniorliving.com
SUMMARY:Fun and Games with Melissa
DESCRIPTION:
URL:https://minnehahaseniorliving.com/event-calendar/fun-and-games-with-melissa-9/
LOCATION:Lobby
CATEGORIES:ALF
END:VEVENT
BEGIN:VEVENT
DTSTART;TZID=America/Chicago:20250726T160000
DTEND;TZID=America/Chicago:20250726T163000
DTSTAMP:20260422T033956
CREATED:20250626T214841Z
LAST-MODIFIED:20250726T201810Z
UID:10000653-1753545600-1753547400@minnehahaseniorliving.com
SUMMARY:Walking Club
DESCRIPTION:
URL:https://minnehahaseniorliving.com/event-calendar/walking-club-51/
CATEGORIES:Harmony Place,Rose Court
END:VEVENT
BEGIN:VEVENT
DTSTART;TZID=America/Chicago:20250726T180000
DTEND;TZID=America/Chicago:20250726T190000
DTSTAMP:20260422T033956
CREATED:20250627T201844Z
LAST-MODIFIED:20250726T214759Z
UID:10000665-1753552800-1753556400@minnehahaseniorliving.com
SUMMARY:Board Game Night
DESCRIPTION:
URL:https://minnehahaseniorliving.com/event-calendar/board-game-night-9/
LOCATION:Lodge
CATEGORIES:ALF
END:VEVENT
END:VCALENDAR