BEGIN:VCALENDAR
VERSION:2.0
PRODID:-//Minnehaha: Senior Living in Minneapolis - ECPv6.13.2.1//NONSGML v1.0//EN
CALSCALE:GREGORIAN
METHOD:PUBLISH
X-ORIGINAL-URL:https://minnehahaseniorliving.com
X-WR-CALDESC:Events for Minnehaha: Senior Living in Minneapolis
REFRESH-INTERVAL;VALUE=DURATION:PT1H
X-Robots-Tag:noindex
X-PUBLISHED-TTL:PT1H
BEGIN:VTIMEZONE
TZID:America/Chicago
BEGIN:DAYLIGHT
TZOFFSETFROM:-0600
TZOFFSETTO:-0500
TZNAME:CDT
DTSTART:20250309T080000
END:DAYLIGHT
BEGIN:STANDARD
TZOFFSETFROM:-0500
TZOFFSETTO:-0600
TZNAME:CST
DTSTART:20251102T070000
END:STANDARD
END:VTIMEZONE
BEGIN:VEVENT
DTSTART;TZID=America/Chicago:20250725T100000
DTEND;TZID=America/Chicago:20250725T103000
DTSTAMP:20260422T033956
CREATED:20250625T194807Z
LAST-MODIFIED:20250724T223349Z
UID:10000618-1753437600-1753439400@minnehahaseniorliving.com
SUMMARY:Virtual Worship Service
DESCRIPTION:
URL:https://minnehahaseniorliving.com/event-calendar/virtual-worship-service-9/
CATEGORIES:Harmony Place,Rose Court
END:VEVENT
BEGIN:VEVENT
DTSTART;TZID=America/Chicago:20250725T103000
DTEND;TZID=America/Chicago:20250725T110000
DTSTAMP:20260422T033956
CREATED:20250625T194807Z
LAST-MODIFIED:20250724T200327Z
UID:10000619-1753439400-1753441200@minnehahaseniorliving.com
SUMMARY:Poetry Club
DESCRIPTION:
URL:https://minnehahaseniorliving.com/event-calendar/poetry-club-17/
CATEGORIES:Rose Court
END:VEVENT
BEGIN:VEVENT
DTSTART;TZID=America/Chicago:20250725T103000
DTEND;TZID=America/Chicago:20250725T110000
DTSTAMP:20260422T033956
CREATED:20250625T201800Z
LAST-MODIFIED:20250717T213333Z
UID:10000643-1753439400-1753441200@minnehahaseniorliving.com
SUMMARY:Group Exercise Class
DESCRIPTION:
URL:https://minnehahaseniorliving.com/event-calendar/group-exercise-class-19/
LOCATION:Lodge
CATEGORIES:ALF
END:VEVENT
BEGIN:VEVENT
DTSTART;TZID=America/Chicago:20250725T110000
DTEND;TZID=America/Chicago:20250725T113000
DTSTAMP:20260422T033956
CREATED:20250625T214806Z
LAST-MODIFIED:20250724T223349Z
UID:10000647-1753441200-1753443000@minnehahaseniorliving.com
SUMMARY:Poetry Club
DESCRIPTION:
URL:https://minnehahaseniorliving.com/event-calendar/poetry-club-18/
CATEGORIES:Harmony Place
END:VEVENT
BEGIN:VEVENT
DTSTART;TZID=America/Chicago:20250725T113000
DTEND;TZID=America/Chicago:20250725T120000
DTSTAMP:20260422T033956
CREATED:20250625T194807Z
LAST-MODIFIED:20250724T223349Z
UID:10000620-1753443000-1753444800@minnehahaseniorliving.com
SUMMARY:Daily Chronicles
DESCRIPTION:
URL:https://minnehahaseniorliving.com/event-calendar/daily-chronicles-59/
CATEGORIES:Harmony Place,Rose Court
END:VEVENT
BEGIN:VEVENT
DTSTART;TZID=America/Chicago:20250725T130000
DTEND;TZID=America/Chicago:20250725T140000
DTSTAMP:20260422T033956
CREATED:20250625T201800Z
LAST-MODIFIED:20250724T214831Z
UID:10000644-1753448400-1753452000@minnehahaseniorliving.com
SUMMARY:The Really Big Show
DESCRIPTION:
URL:https://minnehahaseniorliving.com/event-calendar/the-really-big-show/
LOCATION:Lodge
CATEGORIES:ALF
END:VEVENT
BEGIN:VEVENT
DTSTART;TZID=America/Chicago:20250725T133000
DTEND;TZID=America/Chicago:20250725T140000
DTSTAMP:20260422T033956
CREATED:20250625T201800Z
LAST-MODIFIED:20250724T214831Z
UID:10000645-1753450200-1753452000@minnehahaseniorliving.com
SUMMARY:Worship Service with Kurt
DESCRIPTION:
URL:https://minnehahaseniorliving.com/event-calendar/worship-service-with-kurt-9/
LOCATION:Activity Room
CATEGORIES:ALF,Harmony Place
END:VEVENT
BEGIN:VEVENT
DTSTART;TZID=America/Chicago:20250725T140000
DTEND;TZID=America/Chicago:20250725T143000
DTSTAMP:20260422T033956
CREATED:20250625T214806Z
LAST-MODIFIED:20250724T223349Z
UID:10000648-1753452000-1753453800@minnehahaseniorliving.com
SUMMARY:Table Games
DESCRIPTION:
URL:https://minnehahaseniorliving.com/event-calendar/table-games-17/
CATEGORIES:Harmony Place
END:VEVENT
BEGIN:VEVENT
DTSTART;TZID=America/Chicago:20250725T143000
DTEND;TZID=America/Chicago:20250725T150000
DTSTAMP:20260422T033956
CREATED:20250625T194807Z
LAST-MODIFIED:20250724T200327Z
UID:10000621-1753453800-1753455600@minnehahaseniorliving.com
SUMMARY:Friday Dance Party!
DESCRIPTION:
URL:https://minnehahaseniorliving.com/event-calendar/friday-dance-party-9/
CATEGORIES:Rose Court
END:VEVENT
BEGIN:VEVENT
DTSTART;TZID=America/Chicago:20250725T150000
DTEND;TZID=America/Chicago:20250725T160000
DTSTAMP:20260422T033956
CREATED:20250625T201800Z
LAST-MODIFIED:20250724T214831Z
UID:10000646-1753455600-1753459200@minnehahaseniorliving.com
SUMMARY:Free Bingo with Prizes
DESCRIPTION:
URL:https://minnehahaseniorliving.com/event-calendar/free-bingo-with-prizes-9/
LOCATION:Dining Room
CATEGORIES:ALF
END:VEVENT
BEGIN:VEVENT
DTSTART;TZID=America/Chicago:20250725T160000
DTEND;TZID=America/Chicago:20250725T163000
DTSTAMP:20260422T033956
CREATED:20250625T214806Z
LAST-MODIFIED:20250725T200305Z
UID:10000649-1753459200-1753461000@minnehahaseniorliving.com
SUMMARY:Walking Club
DESCRIPTION:
URL:https://minnehahaseniorliving.com/event-calendar/walking-club-50/
CATEGORIES:Harmony Place,Rose Court
END:VEVENT
END:VCALENDAR