BEGIN:VCALENDAR
VERSION:2.0
PRODID:-//Minnehaha: Senior Living in Minneapolis - ECPv6.13.2.1//NONSGML v1.0//EN
CALSCALE:GREGORIAN
METHOD:PUBLISH
X-ORIGINAL-URL:https://minnehahaseniorliving.com
X-WR-CALDESC:Events for Minnehaha: Senior Living in Minneapolis
REFRESH-INTERVAL;VALUE=DURATION:PT1H
X-Robots-Tag:noindex
X-PUBLISHED-TTL:PT1H
BEGIN:VTIMEZONE
TZID:America/Chicago
BEGIN:DAYLIGHT
TZOFFSETFROM:-0600
TZOFFSETTO:-0500
TZNAME:CDT
DTSTART:20250309T080000
END:DAYLIGHT
BEGIN:STANDARD
TZOFFSETFROM:-0500
TZOFFSETTO:-0600
TZNAME:CST
DTSTART:20251102T070000
END:STANDARD
END:VTIMEZONE
BEGIN:VEVENT
DTSTART;TZID=America/Chicago:20250724T100000
DTEND;TZID=America/Chicago:20250724T103000
DTSTAMP:20260422T033957
CREATED:20250624T194919Z
LAST-MODIFIED:20250723T223332Z
UID:10000603-1753351200-1753353000@minnehahaseniorliving.com
SUMMARY:Gospel Music
DESCRIPTION:
URL:https://minnehahaseniorliving.com/event-calendar/gospel-music-17/
CATEGORIES:Harmony Place,Rose Court
END:VEVENT
BEGIN:VEVENT
DTSTART;TZID=America/Chicago:20250724T103000
DTEND;TZID=America/Chicago:20250724T110000
DTSTAMP:20260422T033957
CREATED:20250624T194919Z
LAST-MODIFIED:20250723T200258Z
UID:10000604-1753353000-1753354800@minnehahaseniorliving.com
SUMMARY:Storytime
DESCRIPTION:
URL:https://minnehahaseniorliving.com/event-calendar/storytime-9/
CATEGORIES:Rose Court
END:VEVENT
BEGIN:VEVENT
DTSTART;TZID=America/Chicago:20250724T103000
DTEND;TZID=America/Chicago:20250724T110000
DTSTAMP:20260422T033957
CREATED:20250625T201800Z
LAST-MODIFIED:20250717T213333Z
UID:10000640-1753353000-1753354800@minnehahaseniorliving.com
SUMMARY:Group Exercise Class
DESCRIPTION:
URL:https://minnehahaseniorliving.com/event-calendar/group-exercise-class-18/
LOCATION:Lodge
CATEGORIES:ALF
END:VEVENT
BEGIN:VEVENT
DTSTART;TZID=America/Chicago:20250724T110000
DTEND;TZID=America/Chicago:20250724T113000
DTSTAMP:20260422T033957
CREATED:20250624T214822Z
LAST-MODIFIED:20250723T223332Z
UID:10000614-1753354800-1753356600@minnehahaseniorliving.com
SUMMARY:Puzzle Time!
DESCRIPTION:
URL:https://minnehahaseniorliving.com/event-calendar/puzzle-time-17/
CATEGORIES:Harmony Place
END:VEVENT
BEGIN:VEVENT
DTSTART;TZID=America/Chicago:20250724T113000
DTEND;TZID=America/Chicago:20250724T120000
DTSTAMP:20260422T033957
CREATED:20250624T194919Z
LAST-MODIFIED:20250723T223332Z
UID:10000605-1753356600-1753358400@minnehahaseniorliving.com
SUMMARY:Daily Chronicles
DESCRIPTION:
URL:https://minnehahaseniorliving.com/event-calendar/daily-chronicles-58/
CATEGORIES:Harmony Place,Rose Court
END:VEVENT
BEGIN:VEVENT
DTSTART;TZID=America/Chicago:20250724T140000
DTEND;TZID=America/Chicago:20250724T150000
DTSTAMP:20260422T033957
CREATED:20250624T194919Z
LAST-MODIFIED:20250723T223332Z
UID:10000606-1753365600-1753369200@minnehahaseniorliving.com
SUMMARY:Happy Hour with Live Music by The Singing Cowgirl
DESCRIPTION:
URL:https://minnehahaseniorliving.com/event-calendar/happy-hour-with-live-music-by-the-singing-cowgirl/
LOCATION:Dining Room
CATEGORIES:ALF,Harmony Place,Rose Court
END:VEVENT
BEGIN:VEVENT
DTSTART;TZID=America/Chicago:20250724T150000
DTEND;TZID=America/Chicago:20250724T153000
DTSTAMP:20260422T033957
CREATED:20250625T194807Z
LAST-MODIFIED:20250724T200327Z
UID:10000617-1753369200-1753371000@minnehahaseniorliving.com
SUMMARY:Bowling
DESCRIPTION:
URL:https://minnehahaseniorliving.com/event-calendar/bowling-9/
CATEGORIES:Rose Court
END:VEVENT
BEGIN:VEVENT
DTSTART;TZID=America/Chicago:20250724T153000
DTEND;TZID=America/Chicago:20250724T163000
DTSTAMP:20260422T033957
CREATED:20250625T201800Z
LAST-MODIFIED:20250723T214900Z
UID:10000641-1753371000-1753374600@minnehahaseniorliving.com
SUMMARY:Table Games
DESCRIPTION:
URL:https://minnehahaseniorliving.com/event-calendar/table-games-16/
LOCATION:Lodge
CATEGORIES:ALF
END:VEVENT
BEGIN:VEVENT
DTSTART;TZID=America/Chicago:20250724T160000
DTEND;TZID=America/Chicago:20250724T163000
DTSTAMP:20260422T033957
CREATED:20250624T214822Z
LAST-MODIFIED:20250724T200327Z
UID:10000615-1753372800-1753374600@minnehahaseniorliving.com
SUMMARY:Walking Club
DESCRIPTION:
URL:https://minnehahaseniorliving.com/event-calendar/walking-club-49/
CATEGORIES:Harmony Place,Rose Court
END:VEVENT
BEGIN:VEVENT
DTSTART;TZID=America/Chicago:20250724T183000
DTEND;TZID=America/Chicago:20250724T193000
DTSTAMP:20260422T033957
CREATED:20250625T201800Z
LAST-MODIFIED:20250724T214831Z
UID:10000642-1753381800-1753385400@minnehahaseniorliving.com
SUMMARY:Creative Coloring and Conversation
DESCRIPTION:
URL:https://minnehahaseniorliving.com/event-calendar/creative-coloring-and-conversation-9/
LOCATION:Lodge
CATEGORIES:ALF
END:VEVENT
END:VCALENDAR