BEGIN:VCALENDAR
VERSION:2.0
PRODID:-//Minnehaha: Senior Living in Minneapolis - ECPv6.13.2.1//NONSGML v1.0//EN
CALSCALE:GREGORIAN
METHOD:PUBLISH
X-WR-CALNAME:Minnehaha: Senior Living in Minneapolis
X-ORIGINAL-URL:https://minnehahaseniorliving.com
X-WR-CALDESC:Events for Minnehaha: Senior Living in Minneapolis
REFRESH-INTERVAL;VALUE=DURATION:PT1H
X-Robots-Tag:noindex
X-PUBLISHED-TTL:PT1H
BEGIN:VTIMEZONE
TZID:America/Chicago
BEGIN:DAYLIGHT
TZOFFSETFROM:-0600
TZOFFSETTO:-0500
TZNAME:CDT
DTSTART:20250309T080000
END:DAYLIGHT
BEGIN:STANDARD
TZOFFSETFROM:-0500
TZOFFSETTO:-0600
TZNAME:CST
DTSTART:20251102T070000
END:STANDARD
END:VTIMEZONE
BEGIN:VEVENT
DTSTART;TZID=America/Chicago:20250615T093000
DTEND;TZID=America/Chicago:20250615T103000
DTSTAMP:20260419T234540
CREATED:20250527T200536Z
LAST-MODIFIED:20250614T210258Z
UID:10000068-1749979800-1749983400@minnehahaseniorliving.com
SUMMARY:Coffee and Chit Chat
DESCRIPTION:
URL:https://minnehahaseniorliving.com/event-calendar/coffee-and-chit-chat-6/
LOCATION:Lodge
CATEGORIES:ALF
END:VEVENT
BEGIN:VEVENT
DTSTART;TZID=America/Chicago:20250615T101500
DTEND;TZID=America/Chicago:20250615T104500
DTSTAMP:20260419T234540
CREATED:20250527T200608Z
LAST-MODIFIED:20250614T220255Z
UID:10000181-1749982500-1749984300@minnehahaseniorliving.com
SUMMARY:Worship Service
DESCRIPTION:
URL:https://minnehahaseniorliving.com/event-calendar/worship-service-6/
LOCATION:Harmony Place
CATEGORIES:Harmony Place
END:VEVENT
BEGIN:VEVENT
DTSTART;TZID=America/Chicago:20250615T110000
DTEND;TZID=America/Chicago:20250615T113000
DTSTAMP:20260419T234540
CREATED:20250527T200634Z
LAST-MODIFIED:20250614T210300Z
UID:10000268-1749985200-1749987000@minnehahaseniorliving.com
SUMMARY:Balloon Volleyball
DESCRIPTION:
URL:https://minnehahaseniorliving.com/event-calendar/balloon-volleyball-7/
LOCATION:Rose Court
CATEGORIES:Rose Court
END:VEVENT
BEGIN:VEVENT
DTSTART;TZID=America/Chicago:20250615T113000
DTEND;TZID=America/Chicago:20250615T120000
DTSTAMP:20260419T234540
CREATED:20250527T200608Z
LAST-MODIFIED:20250614T220255Z
UID:10000182-1749987000-1749988800@minnehahaseniorliving.com
SUMMARY:Daily Chronicles
DESCRIPTION:
URL:https://minnehahaseniorliving.com/event-calendar/daily-chronicles-19/
CATEGORIES:Harmony Place,Rose Court
END:VEVENT
BEGIN:VEVENT
DTSTART;TZID=America/Chicago:20250615T130000
DTEND;TZID=America/Chicago:20250615T133000
DTSTAMP:20260419T234540
CREATED:20250527T200608Z
LAST-MODIFIED:20250614T220255Z
UID:10000183-1749992400-1749994200@minnehahaseniorliving.com
SUMMARY:Outdoor Patio
DESCRIPTION:
URL:https://minnehahaseniorliving.com/event-calendar/outdoor-patio-5/
LOCATION:Harmony Place
CATEGORIES:Harmony Place
END:VEVENT
BEGIN:VEVENT
DTSTART;TZID=America/Chicago:20250615T140000
DTEND;TZID=America/Chicago:20250615T150000
DTSTAMP:20260419T234540
CREATED:20250527T200536Z
LAST-MODIFIED:20250614T220255Z
UID:10000069-1749996000-1749999600@minnehahaseniorliving.com
SUMMARY:Father's Day Social
DESCRIPTION:
URL:https://minnehahaseniorliving.com/event-calendar/fathers-day-social/
LOCATION:Dining Room
CATEGORIES:ALF,Harmony Place,Rose Court
END:VEVENT
BEGIN:VEVENT
DTSTART;TZID=America/Chicago:20250615T150000
DTEND;TZID=America/Chicago:20250615T153000
DTSTAMP:20260419T234540
CREATED:20250527T200536Z
LAST-MODIFIED:20250614T210258Z
UID:10000070-1749999600-1750001400@minnehahaseniorliving.com
SUMMARY:Lobby Games
DESCRIPTION:
URL:https://minnehahaseniorliving.com/event-calendar/lobby-games-3/
LOCATION:Lobby
CATEGORIES:ALF
END:VEVENT
BEGIN:VEVENT
DTSTART;TZID=America/Chicago:20250615T150000
DTEND;TZID=America/Chicago:20250615T153000
DTSTAMP:20260419T234540
CREATED:20250527T200634Z
LAST-MODIFIED:20250614T210300Z
UID:10000269-1749999600-1750001400@minnehahaseniorliving.com
SUMMARY:Expressive Art
DESCRIPTION:
URL:https://minnehahaseniorliving.com/event-calendar/expressive-art-3/
LOCATION:Rose Court
CATEGORIES:Rose Court
END:VEVENT
BEGIN:VEVENT
DTSTART;TZID=America/Chicago:20250615T160000
DTEND;TZID=America/Chicago:20250615T163000
DTSTAMP:20260419T234540
CREATED:20250611T210335Z
LAST-MODIFIED:20250615T211831Z
UID:10000433-1750003200-1750005000@minnehahaseniorliving.com
SUMMARY:Walking Club
DESCRIPTION:
URL:https://minnehahaseniorliving.com/event-calendar/walking-club-10/
CATEGORIES:Harmony Place,Rose Court
END:VEVENT
END:VCALENDAR