BEGIN:VCALENDAR
VERSION:2.0
PRODID:-//Minnehaha: Senior Living in Minneapolis - ECPv6.13.2.1//NONSGML v1.0//EN
CALSCALE:GREGORIAN
METHOD:PUBLISH
X-WR-CALNAME:Minnehaha: Senior Living in Minneapolis
X-ORIGINAL-URL:https://minnehahaseniorliving.com
X-WR-CALDESC:Events for Minnehaha: Senior Living in Minneapolis
REFRESH-INTERVAL;VALUE=DURATION:PT1H
X-Robots-Tag:noindex
X-PUBLISHED-TTL:PT1H
BEGIN:VTIMEZONE
TZID:America/Chicago
BEGIN:DAYLIGHT
TZOFFSETFROM:-0600
TZOFFSETTO:-0500
TZNAME:CDT
DTSTART:20250309T080000
END:DAYLIGHT
BEGIN:STANDARD
TZOFFSETFROM:-0500
TZOFFSETTO:-0600
TZNAME:CST
DTSTART:20251102T070000
END:STANDARD
END:VTIMEZONE
BEGIN:VEVENT
DTSTART;TZID=America/Chicago:20250613T100000
DTEND;TZID=America/Chicago:20250613T103000
DTSTAMP:20260420T011614
CREATED:20250527T200608Z
LAST-MODIFIED:20250612T214804Z
UID:10000176-1749808800-1749810600@minnehahaseniorliving.com
SUMMARY:Virtual Worship Service
DESCRIPTION:
URL:https://minnehahaseniorliving.com/event-calendar/virtual-worship-service-3/
CATEGORIES:Harmony Place,Rose Court
END:VEVENT
BEGIN:VEVENT
DTSTART;TZID=America/Chicago:20250613T103000
DTEND;TZID=America/Chicago:20250613T110000
DTSTAMP:20260420T011614
CREATED:20250527T200634Z
LAST-MODIFIED:20250612T210332Z
UID:10000266-1749810600-1749812400@minnehahaseniorliving.com
SUMMARY:Poetry Club
DESCRIPTION:
URL:https://minnehahaseniorliving.com/event-calendar/poetry-club-7/
CATEGORIES:Rose Court
END:VEVENT
BEGIN:VEVENT
DTSTART;TZID=America/Chicago:20250613T110000
DTEND;TZID=America/Chicago:20250613T113000
DTSTAMP:20260420T011614
CREATED:20250527T200608Z
LAST-MODIFIED:20250612T214804Z
UID:10000177-1749812400-1749814200@minnehahaseniorliving.com
SUMMARY:Poetry Club
DESCRIPTION:
URL:https://minnehahaseniorliving.com/event-calendar/poetry-club-3/
CATEGORIES:Harmony Place
END:VEVENT
BEGIN:VEVENT
DTSTART;TZID=America/Chicago:20250613T113000
DTEND;TZID=America/Chicago:20250613T120000
DTSTAMP:20260420T011614
CREATED:20250527T200608Z
LAST-MODIFIED:20250612T214804Z
UID:10000178-1749814200-1749816000@minnehahaseniorliving.com
SUMMARY:Daily Chronicles
DESCRIPTION:
URL:https://minnehahaseniorliving.com/event-calendar/daily-chronicles-17/
CATEGORIES:Harmony Place,Rose Court
END:VEVENT
BEGIN:VEVENT
DTSTART;TZID=America/Chicago:20250613T133000
DTEND;TZID=America/Chicago:20250613T140000
DTSTAMP:20260420T011614
CREATED:20250527T200535Z
LAST-MODIFIED:20250612T214804Z
UID:10000062-1749821400-1749823200@minnehahaseniorliving.com
SUMMARY:Worship Service with Kurt
DESCRIPTION:
URL:https://minnehahaseniorliving.com/event-calendar/worship-service-with-kurt-3/
LOCATION:Activity Room
CATEGORIES:ALF,Harmony Place
END:VEVENT
BEGIN:VEVENT
DTSTART;TZID=America/Chicago:20250613T140000
DTEND;TZID=America/Chicago:20250613T143000
DTSTAMP:20260420T011614
CREATED:20250527T200608Z
LAST-MODIFIED:20250612T214804Z
UID:10000179-1749823200-1749825000@minnehahaseniorliving.com
SUMMARY:Table Games
DESCRIPTION:
URL:https://minnehahaseniorliving.com/event-calendar/table-games-7/
CATEGORIES:Harmony Place
END:VEVENT
BEGIN:VEVENT
DTSTART;TZID=America/Chicago:20250613T140000
DTEND;TZID=America/Chicago:20250613T150000
DTSTAMP:20260420T011614
CREATED:20250527T200535Z
LAST-MODIFIED:20250612T204819Z
UID:10000063-1749823200-1749826800@minnehahaseniorliving.com
SUMMARY:Free Bingo with Prizes
DESCRIPTION:
URL:https://minnehahaseniorliving.com/event-calendar/free-bingo-with-prizes-3/
LOCATION:Dining Room
CATEGORIES:ALF
END:VEVENT
BEGIN:VEVENT
DTSTART;TZID=America/Chicago:20250613T143000
DTEND;TZID=America/Chicago:20250613T150000
DTSTAMP:20260420T011614
CREATED:20250527T200634Z
LAST-MODIFIED:20250612T210332Z
UID:10000267-1749825000-1749826800@minnehahaseniorliving.com
SUMMARY:Friday Dance Party!
DESCRIPTION:
URL:https://minnehahaseniorliving.com/event-calendar/friday-dance-party-3/
CATEGORIES:Rose Court
END:VEVENT
BEGIN:VEVENT
DTSTART;TZID=America/Chicago:20250613T160000
DTEND;TZID=America/Chicago:20250613T163000
DTSTAMP:20260420T011614
CREATED:20250611T210335Z
LAST-MODIFIED:20250613T210305Z
UID:10000431-1749830400-1749832200@minnehahaseniorliving.com
SUMMARY:Walking Club
DESCRIPTION:
URL:https://minnehahaseniorliving.com/event-calendar/walking-club-8/
CATEGORIES:Harmony Place,Rose Court
END:VEVENT
BEGIN:VEVENT
DTSTART;TZID=America/Chicago:20250613T160000
DTEND;TZID=America/Chicago:20250613T170000
DTSTAMP:20260420T011614
CREATED:20250527T200535Z
LAST-MODIFIED:20250613T204822Z
UID:10000064-1749830400-1749834000@minnehahaseniorliving.com
SUMMARY:Cokes and Karaoke
DESCRIPTION:
URL:https://minnehahaseniorliving.com/event-calendar/cokes-and-karaoke/
LOCATION:Dining Room
CATEGORIES:ALF
END:VEVENT
END:VCALENDAR